Workbook
Name TABLE: '10'!#REF!
Name TABLE: '11'!#REF!
Name TABLE: '12'!#REF!
Name TABLE: '13'!#REF!
Name TABLE: '17'!#REF!
Name TABLE: '18'!#REF!
Name TABLE_2: '10'!#REF!
Name TABLE_2: '11'!#REF!
Name TABLE_2: '12'!#REF!
Name TABLE_2: '13'!#REF!
Name TABLE_2: '17'!#REF!
Name TABLE_2: '18'!#REF!

Sheet 10
T1: Приложение № 10
R2: к приказу Минэнерго России от 25 апреля 2018 г. № 320
A3: Форма 10. Отчет об исполнении плана финансирования капитальных вложений по инвестиционным проектам инвестиционной программы (квартальный)
G4: 2 квартал | J4: 2026 | L4: года
G6: АО "Богородская Электроскть"
G7: полное наименование субъекта электроэнергетики
I9: Год раскрытия информации: | J9: 2026 | L9: год
G11: Утвержденные плановые значения показателей приведены в соответствии с | H11: приказ министра энергетики МО №146 от 25.12.2025
H12: реквизиты решения органа исполнительной власти, утвердившего инвестиционную программу
A14: Номер группы инвести-ционных проектов | B14: Наименование инвестиционного проекта (группы инвестиционных проектов) | C14: Идентификатор инвестиционного проекта | D14: Оценка полной стоимости инвестиционного проекта в прогнозных ценах соответствующих лет, млн. рублей (с НДС) | E14: Фактический объем финансирования капитальных вложений на 01.01.2026г., млн. рублей (с НДС) | F14: Остаток финансирования капитальных вложений на 01.01.2026 г в прогнозных ценах соответствующих лет, млн. рублей (с НДС) | G14: Финансирование капитальных вложений 2026 года, млн. рублей (с НДС) | Q14: Остаток финансирования капитальных вложений на конец отчетного периода в прогнозных ценах соответствующих лет, млн. рублей (с НДС) | R14: Отклонение от плана финансирования по итогам отчетного периода | T14: Причины отклонений
G15: Всего | I15: I квартал | K15: II квартал | M15: III квартал | O15: IV квартал | R15: млн. рублей (с НДС) | S15: %
G16: План | H16: Факт | I16: План | J16: Факт | K16: План | L16: Факт | M16: План | N16: Факт | O16: План | P16: Факт
A17: 1 | B17: 2 | C17: 3 | D17: 4 | E17: 5 | F17: 6 | G17: 7 | H17: 8 | I17: 9 | J17: 10 | K17: 11 | L17: 12 | M17: 13 | N17: 14 | O17: 15 | P17: 16 | Q17: 17 | R17: 18 | S17: 19 | T17: 20
A18: 0 | B18: ИТОГО по инвестиционной программе | C18: Г | D18: =SUM(D19:D24) -> 841.58766 | E18: =SUM(E19:E24) -> 144.70704 | F18: =SUM(F19:F24) -> 696.88062 | G18: =SUM(G19:G24) -> 174.22016 | H18: =SUM(H19:H24) -> 47.978656 | I18: =SUM(I19:I24) -> 0 | J18: =SUM(J19:J24) -> 0 | K18: =SUM(K19:K24) -> 47.192121 | ... S18: =SUM(S19:S24) -> 0.016666667 | T18: нд
A19: 0.1 | B19: Технологическое присоединение, всего | C19: Г | D19: =D26 -> 0 | E19: =E26 -> 0 | F19: =F26 -> 0 | G19: =G26 -> 0 | H19: =H26 -> 0 | I19: =I26 -> 0 | J19: =J26 -> 0 | K19: =K26 -> 0 | ... S19: =S26 -> 0 | T19: нд
A20: 0.2 | B20: Реконструкция, модернизация, техническое перевооружение, всего | C20: Г | D20: =D46 -> 841.58766 | E20: =E46 -> 144.70704 | F20: =F46 -> 696.88062 | G20: =G46 -> 174.22016 | H20: =H46 -> 47.978656 | I20: =I46 -> 0 | J20: =J46 -> 0 | K20: =K46 -> 47.192121 | ... S20: =S46 -> 0.016666667 | T20: нд
A21: 0.3 | B21: Инвестиционные проекты, реализация которых обуславливается схемами и программами перспективного развития электроэнергетики, всего | C21: Г | D21: =D131 -> 0 | E21: =E131 -> 0 | F21: =F131 -> 0 | G21: =G131 -> 0 | H21: =H131 -> 0 | I21: =I131 -> 0 | J21: =J131 -> 0 | K21: =K131 -> 0 | ... S21: =S131 -> 0 | T21: нд
A22: 0.4 | B22: Прочее новое строительство объектов электросетевого хозяйства, всего | C22: Г | D22: =D134 -> 0 | E22: =E134 -> 0 | F22: =F134 -> 0 | G22: =G134 -> 0 | H22: =H134 -> 0 | I22: =I134 -> 0 | J22: =J134 -> 0 | K22: =K134 -> 0 | ... S22: =S134 -> 0 | T22: нд
A23: 0.5 | B23: Покупка земельных участков для целей реализации инвестиционных проектов, всего | C23: Г | D23: =D135 -> 0 | E23: =E135 -> 0 | F23: =F135 -> 0 | G23: =G135 -> 0 | H23: =H135 -> 0 | I23: =I135 -> 0 | J23: =J135 -> 0 | K23: =K135 -> 0 | ... S23: =S135 -> 0 | T23: нд
A24: 0.6 | B24: Прочие инвестиционные проекты, всего | C24: Г | D24: =D136 -> 0 | E24: =E136 -> 0 | F24: =F136 -> 0 | G24: =G136 -> 0 | H24: =H136 -> 0 | I24: =I136 -> 0 | J24: =J136 -> 0 | K24: =K136 -> 0 | ... S24: =S136 -> 0 | T24: нд
A25: 1 | B25: Московская обл., Богородский г.о., г.о.Электросталь | C25: Г | D25: =D26+D46+D131+D134+D135+D136 -> 841.58766 | E25: =E26+E46+E131+E134+E135+E136 -> 144.70704 | F25: =F26+F46+F131+F134+F135+F136 -> 696.88062 | G25: =G26+G46+G131+G134+G135+G136 -> 174.22016 | H25: =H26+H46+H131+H134+H135+H136 -> 47.978656 | I25: =I26+I46+I131+I134+I135+I136 -> 0 | J25: =J26+J46+J131+J134+J135+J136 -> 0 | K25: =K26+K46+K131+K134+K135+K136 -> 47.192121 | ... S25: =S26+S46+S131+S134+S135+S136 -> 0.016666667 | T25: нд
A26: 1.1. | B26: Технологическое присоединение, всего, в том числе: | C26: Г | D26: =D27+D31+D34+D43 -> 0 | E26: =E27+E31+E34+E43 -> 0 | F26: =F27+F31+F34+F43 -> 0 | G26: =G27+G31+G34+G43 -> 0 | H26: =H27+H31+H34+H43 -> 0 | I26: =I27+I31+I34+I43 -> 0 | J26: =J27+J31+J34+J43 -> 0 | K26: =K27+K31+K34+K43 -> 0 | ... S26: =S27+S31+S34+S43 -> 0 | T26: нд
A27: 1.1.1. | B27: Технологическое присоединение энергопринимающих устройств потребителей, всего, в том числе: | C27: Г | D27: =SUM(D28:D30) -> 0 | E27: =SUM(E28:E30) -> 0 | F27: =SUM(F28:F30) -> 0 | G27: =SUM(G28:G30) -> 0 | H27: =SUM(H28:H30) -> 0 | I27: =SUM(I28:I30) -> 0 | J27: =SUM(J28:J30) -> 0 | K27: =SUM(K28:K30) -> 0 | ... S27: =SUM(S28:S30) -> 0 | T27: нд
A28: 1.1.1.1 | B28: Технологическое присоединение энергопринимающих устройств потребителей максимальной мощностью до 15 кВт включительно, всего | C28: Г | D28: 0 | E28: 0 | F28: 0 | G28: 0 | H28: 0 | I28: 0 | J28: 0 | K28: 0 | L28: 0 | M28: 0 | N28: 0 | O28: 0 | P28: 0 | Q28: 0 | R28: 0 | S28: 0 | T28: нд
A29: 1.1.1.2 | B29: Технологическое присоединение энергопринимающих устройств потребителей максимальной мощностью до 150 кВт включительно, всего | C29: Г | D29: 0 | E29: 0 | F29: 0 | G29: 0 | H29: 0 | I29: 0 | J29: 0 | K29: 0 | L29: 0 | M29: 0 | N29: 0 | O29: 0 | P29: 0 | Q29: 0 | R29: 0 | S29: 0 | T29: нд
A30: 1.1.1.3 | B30: Технологическое присоединение энергопринимающих устройств потребителей свыше 150 кВт, всего, в том числе: | C30: Г | D30: =SUM(D31:D32) -> 0 | E30: =SUM(E31:E32) -> 0 | F30: =SUM(F31:F32) -> 0 | G30: =SUM(G31:G32) -> 0 | H30: =SUM(H31:H32) -> 0 | I30: =SUM(I31:I32) -> 0 | J30: =SUM(J31:J32) -> 0 | K30: =SUM(K31:K32) -> 0 | ... S30: =SUM(S31:S32) -> 0 | T30: нд
A31: 1.1.2. | B31: Технологическое присоединение объектов электросетевого хозяйства, всего, в том числе: | C31: Г | D31: =SUM(D32:D33) -> 0 | E31: =SUM(E32:E33) -> 0 | F31: =SUM(F32:F33) -> 0 | G31: =SUM(G32:G33) -> 0 | H31: =SUM(H32:H33) -> 0 | I31: =SUM(I32:I33) -> 0 | J31: =SUM(J32:J33) -> 0 | K31: =SUM(K32:K33) -> 0 | ... S31: =SUM(S32:S33) -> 0 | T31: нд
A32: 1.1.2.1 | B32: Технологическое присоединение объектов электросетевого хозяйства, принадлежащих иным сетевым организациям и иным лицам, всего, в том числе: | C32: Г | D32: 0 | E32: 0 | F32: 0 | G32: 0 | H32: 0 | I32: 0 | J32: 0 | K32: 0 | L32: 0 | M32: 0 | N32: 0 | O32: 0 | P32: 0 | Q32: 0 | R32: 0 | S32: 0 | T32: нд
A33: 1.1.2.2 | B33: Технологическое присоединение к электрическим сетям иных сетевых организаций, всего, в том числе: | C33: Г | D33: 0 | E33: 0 | F33: 0 | G33: 0 | H33: 0 | I33: 0 | J33: 0 | K33: 0 | L33: 0 | M33: 0 | N33: 0 | O33: 0 | P33: 0 | Q33: 0 | R33: 0 | S33: 0 | T33: нд
A34: 1.1.3. | B34: Технологическое присоединение объектов по производству электрической энергии, всего, в том числе: | C34: Г | D34: =SUM(D35:D42) -> 0 | E34: =SUM(E35:E42) -> 0 | F34: =SUM(F35:F42) -> 0 | G34: =SUM(G35:G42) -> 0 | H34: =SUM(H35:H42) -> 0 | I34: =SUM(I35:I42) -> 0 | J34: =SUM(J35:J42) -> 0 | K34: =SUM(K35:K42) -> 0 | ... S34: =SUM(S35:S42) -> 0 | T34: нд
A35: 1.1.3.1 | B35: Наименование объекта по производству электрической энергии, всего, в том числе: | C35: Г | D35: 0 | E35: 0 | F35: 0 | G35: 0 | H35: 0 | I35: 0 | J35: 0 | K35: 0 | L35: 0 | M35: 0 | N35: 0 | O35: 0 | P35: 0 | Q35: 0 | R35: 0 | S35: 0 | T35: нд
A36: 1.1.3.1 | B36: Строительство новых объектов электросетевого хозяйства (за исключением усиления существующей электрической сети) в целях осуществления технологического присоединения объекта по производству электрической энергии, всего, в том числе: | C36: Г | D36: 0 | E36: 0 | F36: 0 | G36: 0 | H36: 0 | I36: 0 | J36: 0 | K36: 0 | L36: 0 | M36: 0 | N36: 0 | O36: 0 | P36: 0 | Q36: 0 | R36: 0 | S36: 0 | T36: нд
A37: 1.1.3.1 | B37: Строительство новых объектов электросетевого хозяйства для усиления электрической сети в целях осуществления технологического присоединения объекта по производству электрической энергии, всего, в том числе: | C37: Г | D37: 0 | E37: 0 | F37: 0 | G37: 0 | H37: 0 | I37: 0 | J37: 0 | K37: 0 | L37: 0 | M37: 0 | N37: 0 | O37: 0 | P37: 0 | Q37: 0 | R37: 0 | S37: 0 | T37: нд
A38: 1.1.3.1 | B38: Реконструкция существующих объектов электросетевого хозяйства для усиления электрической сети в целях осуществления технологического присоединения объекта по производству электрической энергии всего, в том числе: | C38: Г | D38: 0 | E38: 0 | F38: 0 | G38: 0 | H38: 0 | I38: 0 | J38: 0 | K38: 0 | L38: 0 | M38: 0 | N38: 0 | O38: 0 | P38: 0 | Q38: 0 | R38: 0 | S38: 0 | T38: нд
A39: 1.1.3.2 | B39: Наименование объекта по производству электрической энергии, всего, в том числе: | C39: Г | D39: 0 | E39: 0 | F39: 0 | G39: 0 | H39: 0 | I39: 0 | J39: 0 | K39: 0 | L39: 0 | M39: 0 | N39: 0 | O39: 0 | P39: 0 | Q39: 0 | R39: 0 | S39: 0 | T39: нд
A40: 1.1.3.2 | B40: Строительство новых объектов электросетевого хозяйства (за исключением усиления существующей электрической сети) в целях осуществления технологического присоединения объекта по производству электрической энергии, всего, в том числе: | C40: Г | D40: 0 | E40: 0 | F40: 0 | G40: 0 | H40: 0 | I40: 0 | J40: 0 | K40: 0 | L40: 0 | M40: 0 | N40: 0 | O40: 0 | P40: 0 | Q40: 0 | R40: 0 | S40: 0 | T40: нд
A41: 1.1.3.2 | B41: Строительство новых объектов электросетевого хозяйства для усиления электрической сети в целях осуществления технологического присоединения объекта по производству электрической энергии, всего, в том числе: | C41: Г | D41: 0 | E41: 0 | F41: 0 | G41: 0 | H41: 0 | I41: 0 | J41: 0 | K41: 0 | L41: 0 | M41: 0 | N41: 0 | O41: 0 | P41: 0 | Q41: 0 | R41: 0 | S41: 0 | T41: нд
A42: 1.1.3.2 | B42: Реконструкция существующих объектов электросетевого хозяйства для усиления электрической сети в целях осуществления технологического присоединения объекта по производству электрической энергии, всего, в том числе: | C42: Г | D42: 0 | E42: 0 | F42: 0 | G42: 0 | H42: 0 | I42: 0 | J42: 0 | K42: 0 | L42: 0 | M42: 0 | N42: 0 | O42: 0 | P42: 0 | Q42: 0 | R42: 0 | S42: 0 | T42: нд
A43: 1.1.4. | B43: Усиление электрической сети в целях осуществления технологического присоединения энергопринимающих устройств потребителей и (или) объектов электросетевого хозяйства, всего, в том числе: | C43: Г | D43: =SUM(D44:D45) -> 0 | E43: =SUM(E44:E45) -> 0 | F43: =SUM(F44:F45) -> 0 | G43: =SUM(G44:G45) -> 0 | H43: =SUM(H44:H45) -> 0 | I43: =SUM(I44:I45) -> 0 | J43: =SUM(J44:J45) -> 0 | K43: =SUM(K44:K45) -> 0 | ... S43: =SUM(S44:S45) -> 0 | T43: нд
A44: 1.1.4.1 | B44: Строительство новых объектов электросетевого хозяйства для усиления электрической сети в целях осуществления технологического присоединения, всего, в том числе: | C44: Г | D44: 0 | E44: 0 | F44: 0 | G44: 0 | H44: 0 | I44: 0 | J44: 0 | K44: 0 | L44: 0 | M44: 0 | N44: 0 | O44: 0 | P44: 0 | Q44: 0 | R44: 0 | S44: 0 | T44: нд
...

Sheet 11
X1: Приложение № 11
V2: к приказу Минэнерго России от 25 апреля 2018 г. № 320
A3: Форма 11. Отчет об исполнении плана финансирования капитальных вложений по источникам финансирования инвестиционных проектов инвестиционной программы (квартальный)
I4: ='10'!G4 -> 2 квартал | L4: ='10'!J4 -> 2026 | N4: года
H6: Отчет о реализации инвестиционной программы | I6: АО "Богородская Электросеть"
I7: полное наименование субъекта электроэнергетики
K9: Год раскрытия информации: | L9: ='10'!J9 -> 2026 | N9: год
J11: Утвержденные плановые значения показателей приведены в соответствии с | K11: ='10'!H11 -> приказ министра энергетики МО №146 от 25.12.2025
K12: реквизиты решения органа исполнительной власти, утвердившего инвестиционную программу
A14: Номер группы инвести-ционных проектов | B14: Наименование инвестиционного проекта (группы инвестиционных проектов) | C14: Идентификатор инвестиционного проекта | D14: Финансирование капитальных вложений, млн. рублей (с НДС) | N14: Отклонение от плана финансирования по итогам отчетного периода | X14: Причины отклонений
D15: Всего за 2026 год
D16: План | I16: Факт | N16: Общий объем финансирования, в том числе за счет: | P16: федерального бюджета | R16: бюджетов субъектов Российской Федерации и муниципальных образований | T16: средств, полученных от оказания услуг, реализации товаров по регулируемым государством ценам (тарифам) | V16: иных источников финансирования
D17: Общий объем финансирования, в том числе за счет: | E17: федерального бюджета | F17: бюджетов субъектов Российской Федерации и муниципальных образований | G17: средств, полученных от оказания услуг, реализации товаров по регулируемым государством ценам (тарифам) | H17: иных источников финансирования | I17: Общий фактический объем финансирования, в том числе за счет: | J17: федерального бюджета | K17: бюджетов субъектов Российской Федерации и муниципальных образований | L17: средств, полученных от оказания услуг, реализации товаров по регулируемым государством ценам (тарифам) | M17: иных источников финансирования
N18: млн. рублей (с НДС) | O18: % | P18: млн. рублей (с НДС) | Q18: % | R18: млн. рублей (с НДС) | S18: % | T18: млн. рублей (с НДС) | U18: % | V18: млн. рублей (с НДС) | W18: %
A19: 1 | B19: 2 | C19: 3 | D19: 4 | E19: 5 | F19: 6 | G19: 7 | H19: 8 | I19: 9 | J19: 10 | K19: 11 | L19: 12 | M19: 13 | N19: 14 | O19: 15 | P19: 16 | Q19: 17 | R19: 18 | S19: 19 | T19: 20 | U19: 21 | V19: 22 | W19: 23 | X19: 24
A20: 0 | B20: ИТОГО по инвестиционной программе | C20: Г | D20: =SUM(D21:D26) -> 174.22016 | E20: =SUM(E21:E26) -> 0 | F20: =SUM(F21:F26) -> 0 | G20: =SUM(G21:G26) -> 174.22016 | H20: =SUM(H21:H26) -> 0 | I20: =SUM(I21:I26) -> 47.978656 | J20: =SUM(J21:J26) -> 0 | K20: =SUM(K21:K26) -> 0 | ... P20: =SUM(P21:P26) -> 0 | Q20: =Q21+Q25+Q28+Q37 -> 0 | R20: =SUM(R21:R26) -> 0 | S20: =S21+S25+S28+S37 -> 0 | T20: =SUM(T21:T26) -> 0.78653534 | U20: =SUM(U21:U26) -> 0.016666667 | V20: =SUM(V21:V26) -> 0 | W20: =W21+W25+W28+W37 -> 0 | X20: нд
A21: 0.1 | B21: Технологическое присоединение, всего | C21: Г | D21: =D28 -> 0 | E21: =E28 -> 0 | F21: =F28 -> 0 | G21: =G28 -> 0 | H21: =H28 -> 0 | I21: =I28 -> 0 | J21: =J28 -> 0 | K21: =K28 -> 0 | ... P21: =P28 -> 0 | Q21: =Q22+Q26+Q29+Q38 -> 0 | R21: =R28 -> 0 | S21: =S22+S26+S29+S38 -> 0 | T21: =T28 -> 0 | U21: =U28 -> 0 | V21: =V28 -> 0 | W21: =W22+W26+W29+W38 -> 0 | X21: нд
A22: 0.2 | B22: Реконструкция, модернизация, техническое перевооружение, всего | C22: Г | D22: =D48 -> 174.22016 | E22: =E48 -> 0 | F22: =F48 -> 0 | G22: =G48 -> 174.22016 | H22: =H48 -> 0 | I22: =I48 -> 47.978656 | J22: =J48 -> 0 | K22: =K48 -> 0 | ... P22: =P48 -> 0 | Q22: =Q23+Q27+Q30+Q39 -> 0 | R22: =R48 -> 0 | S22: =S23+S27+S30+S39 -> 0 | T22: =T48 -> 0.78653534 | U22: =U48 -> 0.016666667 | V22: =V48 -> 0 | W22: =W23+W27+W30+W39 -> 0 | X22: нд
A23: 0.3 | B23: Инвестиционные проекты, реализация которых обуславливается схемами и программами перспективного развития электроэнергетики, всего | C23: Г | D23: =D133 -> 0 | E23: =E133 -> 0 | F23: =F133 -> 0 | G23: =G133 -> 0 | H23: =H133 -> 0 | I23: =I133 -> 0 | J23: =J133 -> 0 | K23: =K133 -> 0 | ... P23: =P133 -> 0 | Q23: =Q24+Q28+Q31+Q40 -> 0 | R23: =R133 -> 0 | S23: =S24+S28+S31+S40 -> 0 | T23: =T133 -> 0 | U23: =U133 -> 0 | V23: =V133 -> 0 | W23: =W24+W28+W31+W40 -> 0 | X23: нд
A24: 0.4 | B24: Прочее новое строительство объектов электросетевого хозяйства, всего | C24: Г | D24: =D136 -> 0 | E24: =E136 -> 0 | F24: =F136 -> 0 | G24: =G136 -> 0 | H24: =H136 -> 0 | I24: =I136 -> 0 | J24: =J136 -> 0 | K24: =K136 -> 0 | ... P24: =P136 -> 0 | Q24: =Q25+Q29+Q32+Q41 -> 0 | R24: =R136 -> 0 | S24: =S25+S29+S32+S41 -> 0 | T24: =T136 -> 0 | U24: =U136 -> 0 | V24: =V136 -> 0 | W24: =W25+W29+W32+W41 -> 0 | X24: нд
A25: 0.5 | B25: Покупка земельных участков для целей реализации инвестиционных проектов, всего | C25: Г | D25: =D137 -> 0 | E25: =E137 -> 0 | F25: =F137 -> 0 | G25: =G137 -> 0 | H25: =H137 -> 0 | I25: =I137 -> 0 | J25: =J137 -> 0 | K25: =K137 -> 0 | ... P25: =P137 -> 0 | Q25: =Q26+Q30+Q33+Q42 -> 0 | R25: =R137 -> 0 | S25: =S26+S30+S33+S42 -> 0 | T25: =T137 -> 0 | U25: =U137 -> 0 | V25: =V137 -> 0 | W25: =W26+W30+W33+W42 -> 0 | X25: нд
A26: 0.6 | B26: Прочие инвестиционные проекты, всего | C26: Г | D26: =D138 -> 0 | E26: =E138 -> 0 | F26: =F138 -> 0 | G26: =G138 -> 0 | H26: =H138 -> 0 | I26: =I138 -> 0 | J26: =J138 -> 0 | K26: =K138 -> 0 | ... P26: =P138 -> 0 | Q26: =Q27+Q31+Q34+Q43 -> 0 | R26: =R138 -> 0 | S26: =S27+S31+S34+S43 -> 0 | T26: =T138 -> 0 | U26: =U138 -> 0 | V26: =V138 -> 0 | W26: =W27+W31+W34+W43 -> 0 | X26: нд
A27: 1 | B27: Московская обл., Богородский г.о., г.о.Электросталь | C27: Г | D27: =D28+D48+D133+D136+D137+D138 -> 174.22016 | E27: =E28+E48+E133+E136+E137+E138 -> 0 | F27: =F28+F48+F133+F136+F137+F138 -> 0 | G27: =G28+G48+G133+G136+G137+G138 -> 174.22016 | H27: =H28+H48+H133+H136+H137+H138 -> 0 | I27: =I28+I48+I133+I136+I137+I138 -> 47.978656 | J27: =J28+J48+J133+J136+J137+J138 -> 0 | K27: =K28+K48+K133+K136+K137+K138 -> 0 | ... P27: =P28+P48+P133+P136+P137+P138 -> 0 | Q27: =Q28+Q32+Q35+Q44 -> 0 | R27: =R28+R48+R133+R136+R137+R138 -> 0 | S27: =S28+S32+S35+S44 -> 0 | T27: =T28+T48+T133+T136+T137+T138 -> 0.78653534 | U27: =U28+U48+U133+U136+U137+U138 -> 0.016666667 | V27: =V28+V48+V133+V136+V137+V138 -> 0 | W27: =W28+W32+W35+W44 -> 0 | X27: нд
A28: 1.1. | B28: Технологическое присоединение, всего, в том числе: | C28: Г | D28: =D29+D33+D36+D45 -> 0 | E28: =E29+E33+E36+E45 -> 0 | F28: =F29+F33+F36+F45 -> 0 | G28: =G29+G33+G36+G45 -> 0 | H28: =H29+H33+H36+H45 -> 0 | I28: =I29+I33+I36+I45 -> 0 | J28: =J29+J33+J36+J45 -> 0 | K28: =K29+K33+K36+K45 -> 0 | ... W28: =W29+W33+W36+W45 -> 0 | X28: нд
A29: 1.1.1. | B29: Технологическое присоединение энергопринимающих устройств потребителей, всего, в том числе: | C29: Г | D29: =SUM(D30:D32) -> 0 | E29: =SUM(E30:E32) -> 0 | F29: =SUM(F30:F32) -> 0 | G29: =SUM(G30:G32) -> 0 | H29: =SUM(H30:H32) -> 0 | I29: =SUM(I30:I32) -> 0 | J29: =SUM(J30:J32) -> 0 | K29: =SUM(K30:K32) -> 0 | ... W29: =SUM(W30:W32) -> 0 | X29: нд
A30: 1.1.1.1 | B30: Технологическое присоединение энергопринимающих устройств потребителей максимальной мощностью до 15 кВт включительно, всего | C30: Г | D30: 0 | E30: 0 | F30: 0 | G30: 0 | H30: 0 | I30: 0 | J30: 0 | K30: 0 | L30: 0 | M30: 0 | N30: 0 | O30: 0 | P30: 0 | Q30: 0 | R30: 0 | S30: 0 | T30: 0 | U30: 0 | V30: 0 | W30: 0 | X30: нд
A31: 1.1.1.2 | B31: Технологическое присоединение энергопринимающих устройств потребителей максимальной мощностью до 150 кВт включительно, всего | C31: Г | D31: 0 | E31: 0 | F31: 0 | G31: 0 | H31: 0 | I31: 0 | J31: 0 | K31: 0 | L31: 0 | M31: 0 | N31: 0 | O31: 0 | P31: 0 | Q31: 0 | R31: 0 | S31: 0 | T31: 0 | U31: 0 | V31: 0 | W31: 0 | X31: нд
A32: 1.1.1.3 | B32: Технологическое присоединение энергопринимающих устройств потребителей свыше 150 кВт, всего, в том числе: | C32: Г | D32: =SUM(D33:D34) -> 0 | E32: =SUM(E33:E34) -> 0 | F32: =SUM(F33:F34) -> 0 | G32: =SUM(G33:G34) -> 0 | H32: =SUM(H33:H34) -> 0 | I32: =SUM(I33:I34) -> 0 | J32: =SUM(J33:J34) -> 0 | K32: =SUM(K33:K34) -> 0 | ... W32: =SUM(W33:W34) -> 0 | X32: нд
A33: 1.1.2. | B33: Технологическое присоединение объектов электросетевого хозяйства, всего, в том числе: | C33: Г | D33: =SUM(D34:D35) -> 0 | E33: =SUM(E34:E35) -> 0 | F33: =SUM(F34:F35) -> 0 | G33: =SUM(G34:G35) -> 0 | H33: =SUM(H34:H35) -> 0 | I33: =SUM(I34:I35) -> 0 | J33: =SUM(J34:J35) -> 0 | K33: =SUM(K34:K35) -> 0 | ... W33: =SUM(W34:W35) -> 0 | X33: нд
A34: 1.1.2.1 | B34: Технологическое присоединение объектов электросетевого хозяйства, принадлежащих иным сетевым организациям и иным лицам, всего, в том числе: | C34: Г | D34: 0 | E34: 0 | F34: 0 | G34: 0 | H34: 0 | I34: 0 | J34: 0 | K34: 0 | L34: 0 | M34: 0 | N34: 0 | O34: 0 | P34: 0 | Q34: 0 | R34: 0 | S34: 0 | T34: 0 | U34: 0 | V34: 0 | W34: 0 | X34: нд
A35: 1.1.2.2 | B35: Технологическое присоединение к электрическим сетям иных сетевых организаций, всего, в том числе: | C35: Г | D35: 0 | E35: 0 | F35: 0 | G35: 0 | H35: 0 | I35: 0 | J35: 0 | K35: 0 | L35: 0 | M35: 0 | N35: 0 | O35: 0 | P35: 0 | Q35: 0 | R35: 0 | S35: 0 | T35: 0 | U35: 0 | V35: 0 | W35: 0 | X35: нд
A36: 1.1.3. | B36: Технологическое присоединение объектов по производству электрической энергии, всего, в том числе: | C36: Г | D36: =SUM(D37:D44) -> 0 | E36: =SUM(E37:E44) -> 0 | F36: =SUM(F37:F44) -> 0 | G36: =SUM(G37:G44) -> 0 | H36: =SUM(H37:H44) -> 0 | I36: =SUM(I37:I44) -> 0 | J36: =SUM(J37:J44) -> 0 | K36: =SUM(K37:K44) -> 0 | ... W36: =SUM(W37:W44) -> 0 | X36: нд
A37: 1.1.3.1 | B37: Наименование объекта по производству электрической энергии, всего, в том числе: | C37: Г | D37: 0 | E37: 0 | F37: 0 | G37: 0 | H37: 0 | I37: 0 | J37: 0 | K37: 0 | L37: 0 | M37: 0 | N37: 0 | O37: 0 | P37: 0 | Q37: 0 | R37: 0 | S37: 0 | T37: 0 | U37: 0 | V37: 0 | W37: 0 | X37: нд
A38: 1.1.3.1 | B38: Строительство новых объектов электросетевого хозяйства (за исключением усиления существующей электрической сети) в целях осуществления технологического присоединения объекта по производству электрической энергии, всего, в том числе: | C38: Г | D38: 0 | E38: 0 | F38: 0 | G38: 0 | H38: 0 | I38: 0 | J38: 0 | K38: 0 | L38: 0 | M38: 0 | N38: 0 | O38: 0 | P38: 0 | Q38: 0 | R38: 0 | S38: 0 | T38: 0 | U38: 0 | V38: 0 | W38: 0 | X38: нд
A39: 1.1.3.1 | B39: Строительство новых объектов электросетевого хозяйства для усиления электрической сети в целях осуществления технологического присоединения объекта по производству электрической энергии, всего, в том числе: | C39: Г | D39: 0 | E39: 0 | F39: 0 | G39: 0 | H39: 0 | I39: 0 | J39: 0 | K39: 0 | L39: 0 | M39: 0 | N39: 0 | O39: 0 | P39: 0 | Q39: 0 | R39: 0 | S39: 0 | T39: 0 | U39: 0 | V39: 0 | W39: 0 | X39: нд
A40: 1.1.3.1 | B40: Реконструкция существующих объектов электросетевого хозяйства для усиления электрической сети в целях осуществления технологического присоединения объекта по производству электрической энергии всего, в том числе: | C40: Г | D40: 0 | E40: 0 | F40: 0 | G40: 0 | H40: 0 | I40: 0 | J40: 0 | K40: 0 | L40: 0 | M40: 0 | N40: 0 | O40: 0 | P40: 0 | Q40: 0 | R40: 0 | S40: 0 | T40: 0 | U40: 0 | V40: 0 | W40: 0 | X40: нд
A41: 1.1.3.2 | B41: Наименование объекта по производству электрической энергии, всего, в том числе: | C41: Г | D41: 0 | E41: 0 | F41: 0 | G41: 0 | H41: 0 | I41: 0 | J41: 0 | K41: 0 | L41: 0 | M41: 0 | N41: 0 | O41: 0 | P41: 0 | Q41: 0 | R41: 0 | S41: 0 | T41: 0 | U41: 0 | V41: 0 | W41: 0 | X41: нд
A42: 1.1.3.2 | B42: Строительство новых объектов электросетевого хозяйства (за исключением усиления существующей электрической сети) в целях осуществления технологического присоединения объекта по производству электрической энергии, всего, в том числе: | C42: Г | D42: 0 | E42: 0 | F42: 0 | G42: 0 | H42: 0 | I42: 0 | J42: 0 | K42: 0 | L42: 0 | M42: 0 | N42: 0 | O42: 0 | P42: 0 | Q42: 0 | R42: 0 | S42: 0 | T42: 0 | U42: 0 | V42: 0 | W42: 0 | X42: нд
A43: 1.1.3.2 | B43: Строительство новых объектов электросетевого хозяйства для усиления электрической сети в целях осуществления технологического присоединения объекта по производству электрической энергии, всего, в том числе: | C43: Г | D43: 0 | E43: 0 | F43: 0 | G43: 0 | H43: 0 | I43: 0 | J43: 0 | K43: 0 | L43: 0 | M43: 0 | N43: 0 | O43: 0 | P43: 0 | Q43: 0 | R43: 0 | S43: 0 | T43: 0 | U43: 0 | V43: 0 | W43: 0 | X43: нд
A44: 1.1.3.2 | B44: Реконструкция существующих объектов электросетевого хозяйства для усиления электрической сети в целях осуществления технологического присоединения объекта по производству электрической энергии, всего, в том числе: | C44: Г | D44: 0 | E44: 0 | F44: 0 | G44: 0 | H44: 0 | I44: 0 | J44: 0 | K44: 0 | L44: 0 | M44: 0 | N44: 0 | O44: 0 | P44: 0 | Q44: 0 | R44: 0 | S44: 0 | T44: 0 | U44: 0 | V44: 0 | W44: 0 | X44: нд
...

Sheet 12
V1: Приложение № 12
T2: к приказу Минэнерго России от 25 апреля 2018 г. № 320
A3: Форма 12. Отчет об исполнении плана освоения капитальных вложений по инвестиционным проектам инвестиционной программы (квартальный)
H4: ='10'!G4 -> 2 квартал | J4: ='10'!J4 -> 2026 | K4: года
G6: АО "Богородская Электросеть"
G7: полное наименование субъекта электроэнергетики
I9: Год раскрытия информации: | K9: ='10'!J9 -> 2026
G11: Утвержденные плановые значения показателей приведены в соответствии с | H11: ='10'!H11 -> приказ министра энергетики МО №146 от 25.12.2025
H12: реквизиты решения органа исполнительной власти, утвердившего инвестиционную программу
A14: Номер группы инвести-ционных проектов | B14: Наименование инвестиционного проекта (группы инвестиционных проектов) | C14: Идентификатор инвестиционного проекта | D14: Полная сметная стоимость инвестиционного проекта в соответствии с утвержденной проектной документацией в базисном уровне цен, млн. рублей (без НДС) | E14: Фактический объем освоения капитальных вложений на 01.01.2026 г. в прогнозных ценах соответствующих лет, млн. рублей (без НДС) | F14: Остаток освоения капитальных вложений на 01.01.2026 года , млн. рублей (без НДС) | H14: Освоение капитальных вложений 2026 года , млн. рублей (без НДС) | R14: Остаток освоения капитальных вложений на конец отчетного периода, млн. рублей (без НДС) | T14: Отклонение от плана освоения по итогам отчетного периода | V14: Причины отклонений
F15: в базисном уровне цен | G15: в прогнозных ценах соответствующих лет | H15: Всего | J15: I квартал | L15: II квартал | N15: III квартал | P15: IV квартал | R15: в базисном уровне цен | S15: в прогнозных ценах соответствующих лет
H16: План | I16: Факт | J16: План | K16: Факт | L16: План | M16: Факт | N16: План | O16: Факт | P16: План | Q16: Факт | T16: млн. рублей (без НДС) | U16: %
A17: 1 | B17: 2 | C17: 3 | D17: 4 | E17: 5 | F17: 6 | G17: 7 | H17: 8 | I17: 9 | J17: 10 | K17: 11 | L17: 12 | M17: 13 | N17: 14 | O17: 15 | P17: 16 | Q17: 17 | R17: 18 | S17: 19 | T17: 20 | U17: 21 | V17: 22
A18: 0 | B18: ИТОГО по инвестиционной программе | C18: Г | D18: =SUM(D19:D24) -> 41.82487 | E18: =SUM(E19:E24) -> 120.5892 | F18: =SUM(F19:F24) -> 33.880873 | G18: =SUM(G19:G24) -> 580.73385 | H18: =SUM(H19:H24) -> 145.18346 | I18: =SUM(I19:I24) -> 39.326767 | J18: =SUM(J19:J24) -> 0 | K18: =SUM(K19:K24) -> 0 | ... T18: =SUM(T19:T24) -> 0 | U18: 0 | V18: нд
A19: 0.1 | B19: Технологическое присоединение, всего | C19: Г | D19: =D26 -> 0 | E19: =E26 -> 0 | F19: =F26 -> 0 | G19: =G26 -> 0 | H19: =H26 -> 0 | I19: =I26 -> 0 | J19: =J26 -> 0 | K19: =K26 -> 0 | ... T19: =T26 -> 0 | U19: 0 | V19: нд
A20: 0.2 | B20: Реконструкция, модернизация, техническое перевооружение, всего | C20: Г | D20: =D46 -> 41.82487 | E20: =E46 -> 120.5892 | F20: =F46 -> 33.880873 | G20: =G46 -> 580.73385 | H20: =H46 -> 145.18346 | I20: =I46 -> 39.326767 | J20: =J46 -> 0 | K20: =K46 -> 0 | ... T20: =T46 -> 0 | U20: =U21+U25+U28+U37 -> 0 | V20: нд
A21: 0.3 | B21: Инвестиционные проекты, реализация которых обуславливается схемами и программами перспективного развития электроэнергетики, всего | C21: Г | D21: =D131 -> 0 | E21: =E131 -> 0 | F21: =F131 -> 0 | G21: =G131 -> 0 | H21: =H131 -> 0 | I21: =I131 -> 0 | J21: =J131 -> 0 | K21: =K131 -> 0 | ... T21: =T131 -> 0 | U21: =U22+U26+U29+U38 -> 0 | V21: нд
A22: 0.4 | B22: Прочее новое строительство объектов электросетевого хозяйства, всего | C22: Г | D22: =D134 -> 0 | E22: =E134 -> 0 | F22: =F134 -> 0 | G22: =G134 -> 0 | H22: =H134 -> 0 | I22: =I134 -> 0 | J22: =J134 -> 0 | K22: =K134 -> 0 | ... T22: =T134 -> 0 | U22: =U23+U27+U30+U39 -> 0 | V22: нд
A23: 0.5 | B23: Покупка земельных участков для целей реализации инвестиционных проектов, всего | C23: Г | D23: =D135 -> 0 | E23: =E135 -> 0 | F23: =F135 -> 0 | G23: =G135 -> 0 | H23: =H135 -> 0 | I23: =I135 -> 0 | J23: =J135 -> 0 | K23: =K135 -> 0 | ... T23: =T135 -> 0 | U23: =U24+U28+U31+U40 -> 0 | V23: нд
A24: 0.6 | B24: Прочие инвестиционные проекты, всего | C24: Г | D24: =D136 -> 0 | E24: =E136 -> 0 | F24: =F136 -> 0 | G24: =G136 -> 0 | H24: =H136 -> 0 | I24: =I136 -> 0 | J24: =J136 -> 0 | K24: =K136 -> 0 | ... T24: =T136 -> 0 | U24: 0 | V24: нд
A25: 1 | B25: Московская обл., Богородский г.о., г.о.Электросталь | C25: Г | D25: =D26+D46+D131+D134+D135+D136 -> 41.82487 | E25: =E26+E46+E131+E134+E135+E136 -> 120.5892 | F25: =F26+F46+F131+F134+F135+F136 -> 33.880873 | G25: =G26+G46+G131+G134+G135+G136 -> 580.73385 | H25: =H26+H46+H131+H134+H135+H136 -> 145.18346 | I25: =I26+I46+I131+I134+I135+I136 -> 39.326767 | J25: =J26+J46+J131+J134+J135+J136 -> 0 | K25: =K26+K46+K131+K134+K135+K136 -> 0 | ... T25: =T26+T46+T131+T134+T135+T136 -> 0 | U25: 0 | V25: нд
A26: 1.1. | B26: Технологическое присоединение, всего, в том числе: | C26: Г | D26: =D27+D31+D34+D43 -> 0 | E26: =E27+E31+E34+E43 -> 0 | F26: =F27+F31+F34+F43 -> 0 | G26: =G27+G31+G34+G43 -> 0 | H26: =H27+H31+H34+H43 -> 0 | I26: =I27+I31+I34+I43 -> 0 | J26: =J27+J31+J34+J43 -> 0 | K26: =K27+K31+K34+K43 -> 0 | ... U26: =U27+U31+U34+U43 -> 0 | V26: нд
A27: 1.1.1. | B27: Технологическое присоединение энергопринимающих устройств потребителей, всего, в том числе: | C27: Г | D27: =SUM(D28:D30) -> 0 | E27: =SUM(E28:E30) -> 0 | F27: =SUM(F28:F30) -> 0 | G27: =SUM(G28:G30) -> 0 | H27: =SUM(H28:H30) -> 0 | I27: =SUM(I28:I30) -> 0 | J27: =SUM(J28:J30) -> 0 | K27: =SUM(K28:K30) -> 0 | ... U27: =SUM(U28:U30) -> 0 | V27: нд
A28: 1.1.1.1 | B28: Технологическое присоединение энергопринимающих устройств потребителей максимальной мощностью до 15 кВт включительно, всего | C28: Г | D28: 0 | E28: 0 | F28: 0 | G28: 0 | H28: 0 | I28: 0 | J28: 0 | K28: 0 | L28: 0 | M28: 0 | N28: 0 | O28: 0 | P28: 0 | Q28: 0 | R28: 0 | S28: 0 | T28: 0 | U28: 0 | V28: нд
A29: 1.1.1.2 | B29: Технологическое присоединение энергопринимающих устройств потребителей максимальной мощностью до 150 кВт включительно, всего | C29: Г | D29: 0 | E29: 0 | F29: 0 | G29: 0 | H29: 0 | I29: 0 | J29: 0 | K29: 0 | L29: 0 | M29: 0 | N29: 0 | O29: 0 | P29: 0 | Q29: 0 | R29: 0 | S29: 0 | T29: 0 | U29: 0 | V29: нд
A30: 1.1.1.3 | B30: Технологическое присоединение энергопринимающих устройств потребителей свыше 150 кВт, всего, в том числе: | C30: Г | D30: 0 | E30: 0 | F30: 0 | G30: 0 | H30: 0 | I30: 0 | J30: 0 | K30: 0 | L30: 0 | M30: 0 | N30: 0 | O30: 0 | P30: 0 | Q30: 0 | R30: 0 | S30: 0 | T30: =SUM(T31:T32) -> 0 | U30: =SUM(U31:U32) -> 0 | V30: нд
A31: 1.1.2. | B31: Технологическое присоединение объектов электросетевого хозяйства, всего, в том числе: | C31: Г | D31: =SUM(D32:D33) -> 0 | E31: =SUM(E32:E33) -> 0 | F31: =SUM(F32:F33) -> 0 | G31: =SUM(G32:G33) -> 0 | H31: =SUM(H32:H33) -> 0 | I31: =SUM(I32:I33) -> 0 | J31: =SUM(J32:J33) -> 0 | K31: =SUM(K32:K33) -> 0 | ... U31: =SUM(U32:U33) -> 0 | V31: нд
A32: 1.1.2.1 | B32: Технологическое присоединение объектов электросетевого хозяйства, принадлежащих иным сетевым организациям и иным лицам, всего, в том числе: | C32: Г | D32: 0 | E32: 0 | F32: 0 | G32: 0 | H32: 0 | I32: 0 | J32: 0 | K32: 0 | L32: 0 | M32: 0 | N32: 0 | O32: 0 | P32: 0 | Q32: 0 | R32: 0 | S32: 0 | T32: 0 | U32: 0 | V32: нд
A33: 1.1.2.2 | B33: Технологическое присоединение к электрическим сетям иных сетевых организаций, всего, в том числе: | C33: Г | D33: 0 | E33: 0 | F33: 0 | G33: 0 | H33: 0 | I33: 0 | J33: 0 | K33: 0 | L33: 0 | M33: 0 | N33: 0 | O33: 0 | P33: 0 | Q33: 0 | R33: 0 | S33: 0 | T33: 0 | U33: 0 | V33: нд
A34: 1.1.3. | B34: Технологическое присоединение объектов по производству электрической энергии, всего, в том числе: | C34: Г | D34: =SUM(D35:D42) -> 0 | E34: =SUM(E35:E42) -> 0 | F34: =SUM(F35:F42) -> 0 | G34: =SUM(G35:G42) -> 0 | H34: =SUM(H35:H42) -> 0 | I34: =SUM(I35:I42) -> 0 | J34: =SUM(J35:J42) -> 0 | K34: =SUM(K35:K42) -> 0 | ... U34: =SUM(U35:U42) -> 0 | V34: нд
A35: 1.1.3.1 | B35: Наименование объекта по производству электрической энергии, всего, в том числе: | C35: Г | D35: 0 | E35: 0 | F35: 0 | G35: 0 | H35: 0 | I35: 0 | J35: 0 | K35: 0 | L35: 0 | M35: 0 | N35: 0 | O35: 0 | P35: 0 | Q35: 0 | R35: 0 | S35: 0 | T35: 0 | U35: 0 | V35: нд
A36: 1.1.3.1 | B36: Строительство новых объектов электросетевого хозяйства (за исключением усиления существующей электрической сети) в целях осуществления технологического присоединения объекта по производству электрической энергии, всего, в том числе: | C36: Г | D36: 0 | E36: 0 | F36: 0 | G36: 0 | H36: 0 | I36: 0 | J36: 0 | K36: 0 | L36: 0 | M36: 0 | N36: 0 | O36: 0 | P36: 0 | Q36: 0 | R36: 0 | S36: 0 | T36: 0 | U36: 0 | V36: нд
A37: 1.1.3.1 | B37: Строительство новых объектов электросетевого хозяйства для усиления электрической сети в целях осуществления технологического присоединения объекта по производству электрической энергии, всего, в том числе: | C37: Г | D37: 0 | E37: 0 | F37: 0 | G37: 0 | H37: 0 | I37: 0 | J37: 0 | K37: 0 | L37: 0 | M37: 0 | N37: 0 | O37: 0 | P37: 0 | Q37: 0 | R37: 0 | S37: 0 | T37: 0 | U37: 0 | V37: нд
A38: 1.1.3.1 | B38: Реконструкция существующих объектов электросетевого хозяйства для усиления электрической сети в целях осуществления технологического присоединения объекта по производству электрической энергии всего, в том числе: | C38: Г | D38: 0 | E38: 0 | F38: 0 | G38: 0 | H38: 0 | I38: 0 | J38: 0 | K38: 0 | L38: 0 | M38: 0 | N38: 0 | O38: 0 | P38: 0 | Q38: 0 | R38: 0 | S38: 0 | T38: 0 | U38: 0 | V38: нд
A39: 1.1.3.2 | B39: Наименование объекта по производству электрической энергии, всего, в том числе: | C39: Г | D39: 0 | E39: 0 | F39: 0 | G39: 0 | H39: 0 | I39: 0 | J39: 0 | K39: 0 | L39: 0 | M39: 0 | N39: 0 | O39: 0 | P39: 0 | Q39: 0 | R39: 0 | S39: 0 | T39: 0 | U39: 0 | V39: нд
A40: 1.1.3.2 | B40: Строительство новых объектов электросетевого хозяйства (за исключением усиления существующей электрической сети) в целях осуществления технологического присоединения объекта по производству электрической энергии, всего, в том числе: | C40: Г | D40: 0 | E40: 0 | F40: 0 | G40: 0 | H40: 0 | I40: 0 | J40: 0 | K40: 0 | L40: 0 | M40: 0 | N40: 0 | O40: 0 | P40: 0 | Q40: 0 | R40: 0 | S40: 0 | T40: 0 | U40: 0 | V40: нд
A41: 1.1.3.2 | B41: Строительство новых объектов электросетевого хозяйства для усиления электрической сети в целях осуществления технологического присоединения объекта по производству электрической энергии, всего, в том числе: | C41: Г | D41: 0 | E41: 0 | F41: 0 | G41: 0 | H41: 0 | I41: 0 | J41: 0 | K41: 0 | L41: 0 | M41: 0 | N41: 0 | O41: 0 | P41: 0 | Q41: 0 | R41: 0 | S41: 0 | T41: 0 | U41: 0 | V41: нд
A42: 1.1.3.2 | B42: Реконструкция существующих объектов электросетевого хозяйства для усиления электрической сети в целях осуществления технологического присоединения объекта по производству электрической энергии, всего, в том числе: | C42: Г | D42: 0 | E42: 0 | F42: 0 | G42: 0 | H42: 0 | I42: 0 | J42: 0 | K42: 0 | L42: 0 | M42: 0 | N42: 0 | O42: 0 | P42: 0 | Q42: 0 | R42: 0 | S42: 0 | T42: 0 | U42: 0 | V42: нд
A43: 1.1.4. | B43: Усиление электрической сети в целях осуществления технологического присоединения энергопринимающих устройств потребителей и (или) объектов электросетевого хозяйства, всего, в том числе: | C43: Г | D43: =SUM(D44:D45) -> 0 | E43: =SUM(E44:E45) -> 0 | F43: =SUM(F44:F45) -> 0 | G43: =SUM(G44:G45) -> 0 | H43: =SUM(H44:H45) -> 0 | I43: =SUM(I44:I45) -> 0 | J43: =SUM(J44:J45) -> 0 | K43: =SUM(K44:K45) -> 0 | ... U43: =SUM(U44:U45) -> 0 | V43: нд
A44: 1.1.4.1 | B44: Строительство новых объектов электросетевого хозяйства для усиления электрической сети в целях осуществления технологического присоединения, всего, в том числе: | C44: Г | D44: 0 | E44: 0 | F44: 0 | G44: 0 | H44: 0 | I44: 0 | J44: 0 | K44: 0 | L44: 0 | M44: 0 | N44: 0 | O44: 0 | P44: 0 | Q44: 0 | R44: 0 | S44: 0 | T44: 0 | U44: 0 | V44: нд
...

Sheet 13
CK1: Приложение № 13
CI2: к приказу Минэнерго России от 25 апреля 2018 г. № 320
A3: Форма 13. Отчет об исполнении плана ввода основных средств по инвестиционным проектам инвестиционной программы (квартальный)
O4: ='10'!G4 -> 2 квартал | S4: ='10'!J4 -> 2026 | T4: года
I6: Отчет о реализации инвестиционной программы | N6: АО "Богородская Электросеть"
N7: полное наименование субъекта электроэнергетики
R9: Год раскрытия информации: | S9: ='10'!J9 -> 2026 | T9: год
I11: Утвержденные плановые значения показателей приведены в соответствии с | Q11: ='10'!H11 -> приказ министра энергетики МО №146 от 25.12.2025
Q12: реквизиты решения органа исполнительной власти, утвердившего инвестиционную программу
A14: Номер группы инвести-ционных проектов | B14: Наименование инвестиционного проекта (группы инвестиционных проектов) | C14: Идентификаторинвестиционногопроекта | D14: Первоначальная стоимость принимаемых к учету основных средств и нематериальных активов, млн. рублей (без НДС) | E14: Принятие основных средств и нематериальных | AN14: активов к бухгалтерскому учету в 2026 году | CG14: Отклонение от плана ввода основных средств по итогам отчетного периода | CK14: Причины отклонений
E15: План | AS15: Факт
E16: Всего | M16: I кв. | U16: II кв. | AC16: III кв. | AK16: IV кв. | AS16: Всего | BA16: I кв. | BI16: II кв. | BQ16: III кв. | BY16: IV кв.
E17: нематериальные активы | F17: основные средства | M17: нематериальные активы | N17: основные средства | U17: нематериальные активы | V17: основные средства | AC17: нематериальные активы | AD17: основные средства | AK17: нематериальные активы | AL17: основные средства | AS17: нематериальные активы | AT17: основные средства | BA17: нематериальные активы | BB17: основные средства | BI17: нематериальные активы | BJ17: основные средства | BQ17: нематериальные активы | BR17: основные средства | BY17: нематериальные активы | BZ17: основные средства | CG17: нематериальные активы | CI17: основные средства
E18: млн рублей (без НДС) | F18: млн рублей (без НДС) | G18: МВ×А | H18: Мвар | I18: км ЛЭП | J18: МВт | K18: Ячейки КСО | L18: единицы, шт. | M18: млн рублей (без НДС) | N18: млн рублей (без НДС) | O18: МВ×А | P18: Мвар | Q18: км ЛЭП | R18: МВт | S18: Ячейки КСО | T18: единицы, шт. | U18: млн рублей (без НДС) | V18: млн рублей (без НДС) | W18: МВ×А | X18: Мвар | Y18: км ЛЭП | Z18: МВт | AA18: Ячейки КСО | AB18: единицы, шт. | AC18: млн рублей (без НДС) | AD18: млн рублей (без НДС) | AE18: МВ×А | AF18: Мвар | AG18: км ЛЭП | AH18: МВт | AI18: Ячейки КСО | AJ18: единицы, шт. | AK18: млн рублей (без НДС) | AL18: млн рублей (без НДС) | AM18: МВ×А | AN18: Мвар | AO18: км ЛЭП | AP18: МВт | AQ18: Ячейки КСО | AR18: единицы, шт. | AS18: млн рублей (без НДС) | AT18: млн рублей (без НДС) | AU18: МВ×А | AV18: Мвар | AW18: км ЛЭП | AX18: МВт | AY18: Ячейки КСО | AZ18: единицы, шт. | BA18: млн рублей (без НДС) | BB18: млн рублей (без НДС) | BC18: МВ×А | BD18: Мвар | BE18: км ЛЭП | BF18: МВт | BG18: Ячейки КСО | BH18: единицы, шт. | BI18: млн рублей (без НДС) | BJ18: млн рублей (без НДС) | BK18: МВ×А | BL18: Мвар | BM18: км ЛЭП | BN18: МВт | BO18: Ячейки КСО | BP18: единицы, шт. | BQ18: млн рублей (без НДС) | BR18: млн рублей (без НДС) | BS18: МВ×А | BT18: Мвар | BU18: км ЛЭП | BV18: МВт | BW18: Ячейки КСО | BX18: единицы, шт. | BY18: млн рублей (без НДС) | BZ18: млн рублей (без НДС) | CA18: МВ×А | CB18: Мвар | CC18: км ЛЭП | CD18: МВт | CE18: Ячейки КСО | CF18: единицы, шт. | CG18: млн. рублей (без НДС) | CH18: % | CI18: млн. рублей (без НДС) | CJ18: %
A19: 1 | B19: 2 | C19: 3 | D19: 4 | E19: 5.1 | F19: 5.2 | G19: 5.3 | H19: 5.4 | I19: 5.5 | J19: 5.6 | K19: 5.7 | L19: 5.1.1 | M19: 5.1.2 | N19: 5.1.3 | O19: 5.1.4 | P19: 5.1.5 | Q19: 5.1.6 | R19: 5.1.7 | S19: 5.2.1 | T19: 5.2.2 | U19: 5.2.3 | V19: 5.2.4 | W19: 5.2.5 | X19: 5.2.6 | Y19: 5.2.7 | Z19: 5.3.1 | AA19: 5.3.2 | AB19: 5.3.3 | AC19: 5.3.4 | AD19: 5.3.5 | AE19: 5.3.6 | AF19: 5.3.7 | AG19: 5.4.1 | AH19: 5.4.2 | AI19: 5.4.3 | AJ19: 5.4.4 | AK19: 5.4.5 | AL19: 5.4.6 | AM19: 5.4.7 | AN19: 6.1 | AO19: 6.2 | AP19: 6.3 | AQ19: 6.4 | AR19: 6.5 | AS19: 6.6 | AT19: 6.7 | AU19: 6.1.1 | AV19: 6.1.2 | AW19: 6.1.3 | AX19: 6.1.4 | AY19: 6.1.5 | AZ19: 6.1.6 | BA19: 6.1.7 | BB19: 6.2.1 | BC19: 6.2.2 | BD19: 6.2.3 | BE19: 6.2.4 | BF19: 6.2.5 | BG19: 6.2.6 | BH19: 6.2.7 | BI19: 6.3.1 | BJ19: 6.3.2 | BK19: 6.3.3 | BL19: 6.3.4 | BW19: 6.3.5 | BX19: 6.3.6 | BY19: 6.3.7 | BZ19: 6.4.1 | CA19: 6.4.2 | CB19: 6.4.3 | CC19: 6.4.4 | CD19: 6.4.5 | CE19: 6.4.6 | CF19: 6.4.7 | CG19: 7 | CH19: 8 | CI19: 9 | CJ19: 10 | CK19: 11
A20: 0 | B20: ИТОГО по инвестиционной программе | C20: Г | D20: =SUM(D21:D26) -> 701.32305 | E20: =SUM(E21:E26) -> 0 | F20: =SUM(F21:F26) -> 145.18346 | G20: =SUM(G21:G26) -> 3.78 | H20: =SUM(H21:H26) -> 0 | I20: =SUM(I21:I26) -> 8.45 | J20: =SUM(J21:J26) -> 0 | K20: =SUM(K21:K26) -> 28 | ... CG20: =SUM(CG21:CG26) -> 0 | CH20: =CH21+CH25+CH28+CH37 -> 0 | CI20: =SUM(CI21:CI26) -> 0 | CJ20: 0 | CK20: нд
A21: 0.1 | B21: Технологическое присоединение, всего | C21: Г | D21: =D28 -> 0 | E21: =E28 -> 0 | F21: =F28 -> 0 | G21: =G28 -> 0 | H21: =H28 -> 0 | I21: =I28 -> 0 | J21: =J28 -> 0 | K21: =K28 -> 0 | ... CG21: =CG28 -> 0 | CH21: =CH22+CH26+CH29+CH38 -> 0 | CI21: =CI28 -> 0 | CJ21: 0 | CK21: нд
A22: 0.2 | B22: Реконструкция, модернизация, техническое перевооружение, всего | C22: Г | D22: =D48 -> 701.32305 | E22: =E48 -> 0 | F22: =F48 -> 145.18346 | G22: =G48 -> 3.78 | H22: =H48 -> 0 | I22: =I48 -> 8.45 | J22: =J48 -> 0 | K22: =K48 -> 28 | ... CG22: =CG48 -> 0 | CH22: =CH23+CH27+CH30+CH39 -> 0 | CI22: =CI48 -> 0 | CJ22: =CJ23+CJ27+CJ30+CJ39 -> 0 | CK22: нд
A23: 0.3 | B23: Инвестиционные проекты, реализация которых обуславливается схемами и программами перспективного развития электроэнергетики, всего | C23: Г | D23: =D133 -> 0 | E23: =E133 -> 0 | F23: =F133 -> 0 | G23: =G133 -> 0 | H23: =H133 -> 0 | I23: =I133 -> 0 | J23: =J133 -> 0 | K23: =K133 -> 0 | ... CG23: =CG133 -> 0 | CH23: =CH24+CH28+CH31+CH40 -> 0 | CI23: =CI133 -> 0 | CJ23: =CJ24+CJ28+CJ31+CJ40 -> 0 | CK23: нд
A24: 0.4 | B24: Прочее новое строительство объектов электросетевого хозяйства, всего | C24: Г | D24: =D136 -> 0 | E24: =E136 -> 0 | F24: =F136 -> 0 | G24: =G136 -> 0 | H24: =H136 -> 0 | I24: =I136 -> 0 | J24: =J136 -> 0 | K24: =K136 -> 0 | ... CG24: =CG136 -> 0 | CH24: =CH25+CH29+CH32+CH41 -> 0 | CI24: =CI136 -> 0 | CJ24: =CJ25+CJ29+CJ32+CJ41 -> 0 | CK24: нд
A25: 0.5 | B25: Покупка земельных участков для целей реализации инвестиционных проектов, всего | C25: Г | D25: =D137 -> 0 | E25: =E137 -> 0 | F25: =F137 -> 0 | G25: =G137 -> 0 | H25: =H137 -> 0 | I25: =I137 -> 0 | J25: =J137 -> 0 | K25: =K137 -> 0 | ... CG25: =CG137 -> 0 | CH25: =CH26+CH30+CH33+CH42 -> 0 | CI25: =CI137 -> 0 | CJ25: =CJ26+CJ30+CJ33+CJ42 -> 0 | CK25: нд
A26: 0.6 | B26: Прочие инвестиционные проекты, всего | C26: Г | D26: =D138 -> 0 | E26: =E138 -> 0 | F26: =F138 -> 0 | G26: =G138 -> 0 | H26: =H138 -> 0 | I26: =I138 -> 0 | J26: =J138 -> 0 | K26: =K138 -> 0 | ... CG26: =CG138 -> 0 | CH26: =CH27+CH31+CH34+CH43 -> 0 | CI26: =CI138 -> 0 | CJ26: 0 | CK26: нд
A27: 1 | B27: Московская обл., Богородский г.о., г.о.Электросталь | C27: Г | D27: =D28+D48+D133+D136+D137+D138 -> 701.32305 | E27: =E28+E48+E133+E136+E137+E138 -> 0 | F27: =F28+F48+F133+F136+F137+F138 -> 145.18346 | G27: =G28+G48+G133+G136+G137+G138 -> 3.78 | H27: =H28+H48+H133+H136+H137+H138 -> 0 | I27: =I28+I48+I133+I136+I137+I138 -> 8.45 | J27: =J28+J48+J133+J136+J137+J138 -> 0 | K27: =K28+K48+K133+K136+K137+K138 -> 28 | ... CG27: =CG28+CG48+CG133+CG136+CG137+CG138 -> 0 | CH27: =CH28+CH32+CH35+CH44 -> 0 | CI27: =CI28+CI48+CI133+CI136+CI137+CI138 -> 0 | CJ27: 0 | CK27: нд
A28: 1.1. | B28: Технологическое присоединение, всего, в том числе: | C28: Г | D28: =D29+D33+D36+D45 -> 0 | E28: =E29+E33+E36+E45 -> 0 | F28: =F29+F33+F36+F45 -> 0 | G28: =G29+G33+G36+G45 -> 0 | H28: =H29+H33+H36+H45 -> 0 | I28: =I29+I33+I36+I45 -> 0 | J28: =J29+J33+J36+J45 -> 0 | K28: =K29+K33+K36+K45 -> 0 | ... CJ28: =CJ29+CJ33+CJ36+CJ45 -> 0 | CK28: нд
A29: 1.1.1. | B29: Технологическое присоединение энергопринимающих устройств потребителей, всего, в том числе: | C29: Г | D29: =SUM(D30:D32) -> 0 | E29: =SUM(E30:E32) -> 0 | F29: =SUM(F30:F32) -> 0 | G29: =SUM(G30:G32) -> 0 | H29: =SUM(H30:H32) -> 0 | I29: =SUM(I30:I32) -> 0 | J29: =SUM(J30:J32) -> 0 | K29: =SUM(K30:K32) -> 0 | ... CJ29: =SUM(CJ30:CJ32) -> 0 | CK29: нд
A30: 1.1.1.1 | B30: Технологическое присоединение энергопринимающих устройств потребителей максимальной мощностью до 15 кВт включительно, всего | C30: Г | D30: 0 | E30: 0 | F30: 0 | G30: 0 | H30: 0 | I30: 0 | J30: 0 | K30: 0 | L30: 0 | M30: 0 | N30: 0 | O30: 0 | P30: 0 | Q30: 0 | R30: 0 | S30: 0 | T30: 0 | U30: 0 | V30: 0 | W30: 0 | X30: 0 | Y30: 0 | Z30: 0 | AA30: 0 | AB30: 0 | AC30: 0 | AD30: 0 | AE30: 0 | AF30: 0 | AG30: 0 | AH30: 0 | AI30: 0 | AJ30: 0 | AK30: 0 | AL30: 0 | AM30: 0 | AN30: 0 | AO30: 0 | AP30: 0 | AQ30: 0 | AR30: 0 | AS30: 0 | AT30: 0 | AU30: 0 | AV30: 0 | AW30: 0 | AX30: 0 | AY30: 0 | AZ30: 0 | BA30: 0 | BB30: 0 | BC30: 0 | BD30: 0 | BE30: 0 | BF30: 0 | BG30: 0 | BH30: 0 | BI30: 0 | BJ30: 0 | BK30: 0 | BL30: 0 | BM30: 0 | BN30: 0 | BO30: 0 | BP30: 0 | BQ30: 0 | BR30: 0 | BS30: 0 | BT30: 0 | BU30: 0 | BV30: 0 | BW30: 0 | BX30: 0 | BY30: 0 | BZ30: 0 | CA30: 0 | CB30: 0 | CC30: 0 | CD30: 0 | CE30: 0 | CF30: 0 | CG30: 0 | CH30: 0 | CI30: 0 | CJ30: 0 | CK30: нд
A31: 1.1.1.2 | B31: Технологическое присоединение энергопринимающих устройств потребителей максимальной мощностью до 150 кВт включительно, всего | C31: Г | D31: 0 | E31: 0 | F31: 0 | G31: 0 | H31: 0 | I31: 0 | J31: 0 | K31: 0 | L31: 0 | M31: 0 | N31: 0 | O31: 0 | P31: 0 | Q31: 0 | R31: 0 | S31: 0 | T31: 0 | U31: 0 | V31: 0 | W31: 0 | X31: 0 | Y31: 0 | Z31: 0 | AA31: 0 | AB31: 0 | AC31: 0 | AD31: 0 | AE31: 0 | AF31: 0 | AG31: 0 | AH31: 0 | AI31: 0 | AJ31: 0 | AK31: 0 | AL31: 0 | AM31: 0 | AN31: 0 | AO31: 0 | AP31: 0 | AQ31: 0 | AR31: 0 | AS31: 0 | AT31: 0 | AU31: 0 | AV31: 0 | AW31: 0 | AX31: 0 | AY31: 0 | AZ31: 0 | BA31: 0 | BB31: 0 | BC31: 0 | BD31: 0 | BE31: 0 | BF31: 0 | BG31: 0 | BH31: 0 | BI31: 0 | BJ31: 0 | BK31: 0 | BL31: 0 | BM31: 0 | BN31: 0 | BO31: 0 | BP31: 0 | BQ31: 0 | BR31: 0 | BS31: 0 | BT31: 0 | BU31: 0 | BV31: 0 | BW31: 0 | BX31: 0 | BY31: 0 | BZ31: 0 | CA31: 0 | CB31: 0 | CC31: 0 | CD31: 0 | CE31: 0 | CF31: 0 | CG31: 0 | CH31: 0 | CI31: 0 | CJ31: 0 | CK31: нд
A32: 1.1.1.3 | B32: Технологическое присоединение энергопринимающих устройств потребителей свыше 150 кВт, всего, в том числе: | C32: Г | D32: 0 | E32: 0 | F32: 0 | G32: 0 | H32: 0 | I32: 0 | J32: 0 | K32: 0 | L32: 0 | M32: 0 | N32: 0 | O32: 0 | P32: 0 | Q32: 0 | R32: 0 | S32: 0 | T32: 0 | U32: 0 | V32: 0 | W32: 0 | X32: 0 | Y32: 0 | Z32: 0 | AA32: 0 | AB32: 0 | AC32: 0 | AD32: 0 | AE32: 0 | AF32: 0 | AG32: 0 | AH32: 0 | AI32: 0 | AJ32: 0 | AK32: 0 | AL32: 0 | AM32: 0 | AN32: 0 | AO32: 0 | AP32: 0 | AQ32: 0 | AR32: 0 | AS32: 0 | AT32: 0 | AU32: 0 | AV32: 0 | AW32: 0 | AX32: 0 | AY32: 0 | AZ32: 0 | BA32: 0 | BB32: 0 | BC32: 0 | BD32: 0 | BE32: 0 | BF32: 0 | BG32: 0 | BH32: 0 | BI32: 0 | BJ32: 0 | BK32: 0 | BL32: 0 | BM32: 0 | BN32: 0 | BO32: 0 | BP32: 0 | BQ32: 0 | BR32: 0 | BS32: 0 | BT32: 0 | BU32: 0 | BV32: 0 | BW32: 0 | BX32: 0 | BY32: 0 | BZ32: 0 | CA32: 0 | CB32: 0 | CC32: 0 | CD32: 0 | CE32: 0 | CF32: 0 | CG32: =SUM(CG33:CG34) -> 0 | CH32: =SUM(CH33:CH34) -> 0 | CI32: =SUM(CI33:CI34) -> 0 | CJ32: =SUM(CJ33:CJ34) -> 0 | CK32: нд
A33: 1.1.2. | B33: Технологическое присоединение объектов электросетевого хозяйства, всего, в том числе: | C33: Г | D33: =SUM(D34:D35) -> 0 | E33: =SUM(E34:E35) -> 0 | F33: =SUM(F34:F35) -> 0 | G33: =SUM(G34:G35) -> 0 | H33: =SUM(H34:H35) -> 0 | I33: =SUM(I34:I35) -> 0 | J33: =SUM(J34:J35) -> 0 | K33: =SUM(K34:K35) -> 0 | ... CJ33: =SUM(CJ34:CJ35) -> 0 | CK33: нд
A34: 1.1.2.1 | B34: Технологическое присоединение объектов электросетевого хозяйства, принадлежащих иным сетевым организациям и иным лицам, всего, в том числе: | C34: Г | D34: 0 | E34: 0 | F34: 0 | G34: 0 | H34: 0 | I34: 0 | J34: 0 | K34: 0 | L34: 0 | M34: 0 | N34: 0 | O34: 0 | P34: 0 | Q34: 0 | R34: 0 | S34: 0 | T34: 0 | U34: 0 | V34: 0 | W34: 0 | X34: 0 | Y34: 0 | Z34: 0 | AA34: 0 | AB34: 0 | AC34: 0 | AD34: 0 | AE34: 0 | AF34: 0 | AG34: 0 | AH34: 0 | AI34: 0 | AJ34: 0 | AK34: 0 | AL34: 0 | AM34: 0 | AN34: 0 | AO34: 0 | AP34: 0 | AQ34: 0 | AR34: 0 | AS34: 0 | AT34: 0 | AU34: 0 | AV34: 0 | AW34: 0 | AX34: 0 | AY34: 0 | AZ34: 0 | BA34: 0 | BB34: 0 | BC34: 0 | BD34: 0 | BE34: 0 | BF34: 0 | BG34: 0 | BH34: 0 | BI34: 0 | BJ34: 0 | BK34: 0 | BL34: 0 | BM34: 0 | BN34: 0 | BO34: 0 | BP34: 0 | BQ34: 0 | BR34: 0 | BS34: 0 | BT34: 0 | BU34: 0 | BV34: 0 | BW34: 0 | BX34: 0 | BY34: 0 | BZ34: 0 | CA34: 0 | CB34: 0 | CC34: 0 | CD34: 0 | CE34: 0 | CF34: 0 | CG34: 0 | CH34: 0 | CI34: 0 | CJ34: 0 | CK34: нд
A35: 1.1.2.2 | B35: Технологическое присоединение к электрическим сетям иных сетевых организаций, всего, в том числе: | C35: Г | D35: 0 | E35: 0 | F35: 0 | G35: 0 | H35: 0 | I35: 0 | J35: 0 | K35: 0 | L35: 0 | M35: 0 | N35: 0 | O35: 0 | P35: 0 | Q35: 0 | R35: 0 | S35: 0 | T35: 0 | U35: 0 | V35: 0 | W35: 0 | X35: 0 | Y35: 0 | Z35: 0 | AA35: 0 | AB35: 0 | AC35: 0 | AD35: 0 | AE35: 0 | AF35: 0 | AG35: 0 | AH35: 0 | AI35: 0 | AJ35: 0 | AK35: 0 | AL35: 0 | AM35: 0 | AN35: 0 | AO35: 0 | AP35: 0 | AQ35: 0 | AR35: 0 | AS35: 0 | AT35: 0 | AU35: 0 | AV35: 0 | AW35: 0 | AX35: 0 | AY35: 0 | AZ35: 0 | BA35: 0 | BB35: 0 | BC35: 0 | BD35: 0 | BE35: 0 | BF35: 0 | BG35: 0 | BH35: 0 | BI35: 0 | BJ35: 0 | BK35: 0 | BL35: 0 | BM35: 0 | BN35: 0 | BO35: 0 | BP35: 0 | BQ35: 0 | BR35: 0 | BS35: 0 | BT35: 0 | BU35: 0 | BV35: 0 | BW35: 0 | BX35: 0 | BY35: 0 | BZ35: 0 | CA35: 0 | CB35: 0 | CC35: 0 | CD35: 0 | CE35: 0 | CF35: 0 | CG35: 0 | CH35: 0 | CI35: 0 | CJ35: 0 | CK35: нд
A36: 1.1.3. | B36: Технологическое присоединение объектов по производству электрической энергии, всего, в том числе: | C36: Г | D36: =SUM(D37:D44) -> 0 | E36: =SUM(E37:E44) -> 0 | F36: =SUM(F37:F44) -> 0 | G36: =SUM(G37:G44) -> 0 | H36: =SUM(H37:H44) -> 0 | I36: =SUM(I37:I44) -> 0 | J36: =SUM(J37:J44) -> 0 | K36: =SUM(K37:K44) -> 0 | ... CJ36: =SUM(CJ37:CJ44) -> 0 | CK36: нд
A37: 1.1.3.1 | B37: Наименование объекта по производству электрической энергии, всего, в том числе: | C37: Г | D37: 0 | E37: 0 | F37: 0 | G37: 0 | H37: 0 | I37: 0 | J37: 0 | K37: 0 | L37: 0 | M37: 0 | N37: 0 | O37: 0 | P37: 0 | Q37: 0 | R37: 0 | S37: 0 | T37: 0 | U37: 0 | V37: 0 | W37: 0 | X37: 0 | Y37: 0 | Z37: 0 | AA37: 0 | AB37: 0 | AC37: 0 | AD37: 0 | AE37: 0 | AF37: 0 | AG37: 0 | AH37: 0 | AI37: 0 | AJ37: 0 | AK37: 0 | AL37: 0 | AM37: 0 | AN37: 0 | AO37: 0 | AP37: 0 | AQ37: 0 | AR37: 0 | AS37: 0 | AT37: 0 | AU37: 0 | AV37: 0 | AW37: 0 | AX37: 0 | AY37: 0 | AZ37: 0 | BA37: 0 | BB37: 0 | BC37: 0 | BD37: 0 | BE37: 0 | BF37: 0 | BG37: 0 | BH37: 0 | BI37: 0 | BJ37: 0 | BK37: 0 | BL37: 0 | BM37: 0 | BN37: 0 | BO37: 0 | BP37: 0 | BQ37: 0 | BR37: 0 | BS37: 0 | BT37: 0 | BU37: 0 | BV37: 0 | BW37: 0 | BX37: 0 | BY37: 0 | BZ37: 0 | CA37: 0 | CB37: 0 | CC37: 0 | CD37: 0 | CE37: 0 | CF37: 0 | CG37: 0 | CH37: 0 | CI37: 0 | CJ37: 0 | CK37: нд
A38: 1.1.3.1 | B38: Строительство новых объектов электросетевого хозяйства (за исключением усиления существующей электрической сети) в целях осуществления технологического присоединения объекта по производству электрической энергии, всего, в том числе: | C38: Г | D38: 0 | E38: 0 | F38: 0 | G38: 0 | H38: 0 | I38: 0 | J38: 0 | K38: 0 | L38: 0 | M38: 0 | N38: 0 | O38: 0 | P38: 0 | Q38: 0 | R38: 0 | S38: 0 | T38: 0 | U38: 0 | V38: 0 | W38: 0 | X38: 0 | Y38: 0 | Z38: 0 | AA38: 0 | AB38: 0 | AC38: 0 | AD38: 0 | AE38: 0 | AF38: 0 | AG38: 0 | AH38: 0 | AI38: 0 | AJ38: 0 | AK38: 0 | AL38: 0 | AM38: 0 | AN38: 0 | AO38: 0 | AP38: 0 | AQ38: 0 | AR38: 0 | AS38: 0 | AT38: 0 | AU38: 0 | AV38: 0 | AW38: 0 | AX38: 0 | AY38: 0 | AZ38: 0 | BA38: 0 | BB38: 0 | BC38: 0 | BD38: 0 | BE38: 0 | BF38: 0 | BG38: 0 | BH38: 0 | BI38: 0 | BJ38: 0 | BK38: 0 | BL38: 0 | BM38: 0 | BN38: 0 | BO38: 0 | BP38: 0 | BQ38: 0 | BR38: 0 | BS38: 0 | BT38: 0 | BU38: 0 | BV38: 0 | BW38: 0 | BX38: 0 | BY38: 0 | BZ38: 0 | CA38: 0 | CB38: 0 | CC38: 0 | CD38: 0 | CE38: 0 | CF38: 0 | CG38: 0 | CH38: 0 | CI38: 0 | CJ38: 0 | CK38: нд
A39: 1.1.3.1 | B39: Строительство новых объектов электросетевого хозяйства для усиления электрической сети в целях осуществления технологического присоединения объекта по производству электрической энергии, всего, в том числе: | C39: Г | D39: 0 | E39: 0 | F39: 0 | G39: 0 | H39: 0 | I39: 0 | J39: 0 | K39: 0 | L39: 0 | M39: 0 | N39: 0 | O39: 0 | P39: 0 | Q39: 0 | R39: 0 | S39: 0 | T39: 0 | U39: 0 | V39: 0 | W39: 0 | X39: 0 | Y39: 0 | Z39: 0 | AA39: 0 | AB39: 0 | AC39: 0 | AD39: 0 | AE39: 0 | AF39: 0 | AG39: 0 | AH39: 0 | AI39: 0 | AJ39: 0 | AK39: 0 | AL39: 0 | AM39: 0 | AN39: 0 | AO39: 0 | AP39: 0 | AQ39: 0 | AR39: 0 | AS39: 0 | AT39: 0 | AU39: 0 | AV39: 0 | AW39: 0 | AX39: 0 | AY39: 0 | AZ39: 0 | BA39: 0 | BB39: 0 | BC39: 0 | BD39: 0 | BE39: 0 | BF39: 0 | BG39: 0 | BH39: 0 | BI39: 0 | BJ39: 0 | BK39: 0 | BL39: 0 | BM39: 0 | BN39: 0 | BO39: 0 | BP39: 0 | BQ39: 0 | BR39: 0 | BS39: 0 | BT39: 0 | BU39: 0 | BV39: 0 | BW39: 0 | BX39: 0 | BY39: 0 | BZ39: 0 | CA39: 0 | CB39: 0 | CC39: 0 | CD39: 0 | CE39: 0 | CF39: 0 | CG39: 0 | CH39: 0 | CI39: 0 | CJ39: 0 | CK39: нд
A40: 1.1.3.1 | B40: Реконструкция существующих объектов электросетевого хозяйства для усиления электрической сети в целях осуществления технологического присоединения объекта по производству электрической энергии всего, в том числе: | C40: Г | D40: 0 | E40: 0 | F40: 0 | G40: 0 | H40: 0 | I40: 0 | J40: 0 | K40: 0 | L40: 0 | M40: 0 | N40: 0 | O40: 0 | P40: 0 | Q40: 0 | R40: 0 | S40: 0 | T40: 0 | U40: 0 | V40: 0 | W40: 0 | X40: 0 | Y40: 0 | Z40: 0 | AA40: 0 | AB40: 0 | AC40: 0 | AD40: 0 | AE40: 0 | AF40: 0 | AG40: 0 | AH40: 0 | AI40: 0 | AJ40: 0 | AK40: 0 | AL40: 0 | AM40: 0 | AN40: 0 | AO40: 0 | AP40: 0 | AQ40: 0 | AR40: 0 | AS40: 0 | AT40: 0 | AU40: 0 | AV40: 0 | AW40: 0 | AX40: 0 | AY40: 0 | AZ40: 0 | BA40: 0 | BB40: 0 | BC40: 0 | BD40: 0 | BE40: 0 | BF40: 0 | BG40: 0 | BH40: 0 | BI40: 0 | BJ40: 0 | BK40: 0 | BL40: 0 | BM40: 0 | BN40: 0 | BO40: 0 | BP40: 0 | BQ40: 0 | BR40: 0 | BS40: 0 | BT40: 0 | BU40: 0 | BV40: 0 | BW40: 0 | BX40: 0 | BY40: 0 | BZ40: 0 | CA40: 0 | CB40: 0 | CC40: 0 | CD40: 0 | CE40: 0 | CF40: 0 | CG40: 0 | CH40: 0 | CI40: 0 | CJ40: 0 | CK40: нд
A41: 1.1.3.2 | B41: Наименование объекта по производству электрической энергии, всего, в том числе: | C41: Г | D41: 0 | E41: 0 | F41: 0 | G41: 0 | H41: 0 | I41: 0 | J41: 0 | K41: 0 | L41: 0 | M41: 0 | N41: 0 | O41: 0 | P41: 0 | Q41: 0 | R41: 0 | S41: 0 | T41: 0 | U41: 0 | V41: 0 | W41: 0 | X41: 0 | Y41: 0 | Z41: 0 | AA41: 0 | AB41: 0 | AC41: 0 | AD41: 0 | AE41: 0 | AF41: 0 | AG41: 0 | AH41: 0 | AI41: 0 | AJ41: 0 | AK41: 0 | AL41: 0 | AM41: 0 | AN41: 0 | AO41: 0 | AP41: 0 | AQ41: 0 | AR41: 0 | AS41: 0 | AT41: 0 | AU41: 0 | AV41: 0 | AW41: 0 | AX41: 0 | AY41: 0 | AZ41: 0 | BA41: 0 | BB41: 0 | BC41: 0 | BD41: 0 | BE41: 0 | BF41: 0 | BG41: 0 | BH41: 0 | BI41: 0 | BJ41: 0 | BK41: 0 | BL41: 0 | BM41: 0 | BN41: 0 | BO41: 0 | BP41: 0 | BQ41: 0 | BR41: 0 | BS41: 0 | BT41: 0 | BU41: 0 | BV41: 0 | BW41: 0 | BX41: 0 | BY41: 0 | BZ41: 0 | CA41: 0 | CB41: 0 | CC41: 0 | CD41: 0 | CE41: 0 | CF41: 0 | CG41: 0 | CH41: 0 | CI41: 0 | CJ41: 0 | CK41: нд
A42: 1.1.3.2 | B42: Строительство новых объектов электросетевого хозяйства (за исключением усиления существующей электрической сети) в целях осуществления технологического присоединения объекта по производству электрической энергии, всего, в том числе: | C42: Г | D42: 0 | E42: 0 | F42: 0 | G42: 0 | H42: 0 | I42: 0 | J42: 0 | K42: 0 | L42: 0 | M42: 0 | N42: 0 | O42: 0 | P42: 0 | Q42: 0 | R42: 0 | S42: 0 | T42: 0 | U42: 0 | V42: 0 | W42: 0 | X42: 0 | Y42: 0 | Z42: 0 | AA42: 0 | AB42: 0 | AC42: 0 | AD42: 0 | AE42: 0 | AF42: 0 | AG42: 0 | AH42: 0 | AI42: 0 | AJ42: 0 | AK42: 0 | AL42: 0 | AM42: 0 | AN42: 0 | AO42: 0 | AP42: 0 | AQ42: 0 | AR42: 0 | AS42: 0 | AT42: 0 | AU42: 0 | AV42: 0 | AW42: 0 | AX42: 0 | AY42: 0 | AZ42: 0 | BA42: 0 | BB42: 0 | BC42: 0 | BD42: 0 | BE42: 0 | BF42: 0 | BG42: 0 | BH42: 0 | BI42: 0 | BJ42: 0 | BK42: 0 | BL42: 0 | BM42: 0 | BN42: 0 | BO42: 0 | BP42: 0 | BQ42: 0 | BR42: 0 | BS42: 0 | BT42: 0 | BU42: 0 | BV42: 0 | BW42: 0 | BX42: 0 | BY42: 0 | BZ42: 0 | CA42: 0 | CB42: 0 | CC42: 0 | CD42: 0 | CE42: 0 | CF42: 0 | CG42: 0 | CH42: 0 | CI42: 0 | CJ42: 0 | CK42: нд
A43: 1.1.3.2 | B43: Строительство новых объектов электросетевого хозяйства для усиления электрической сети в целях осуществления технологического присоединения объекта по производству электрической энергии, всего, в том числе: | C43: Г | D43: 0 | E43: 0 | F43: 0 | G43: 0 | H43: 0 | I43: 0 | J43: 0 | K43: 0 | L43: 0 | M43: 0 | N43: 0 | O43: 0 | P43: 0 | Q43: 0 | R43: 0 | S43: 0 | T43: 0 | U43: 0 | V43: 0 | W43: 0 | X43: 0 | Y43: 0 | Z43: 0 | AA43: 0 | AB43: 0 | AC43: 0 | AD43: 0 | AE43: 0 | AF43: 0 | AG43: 0 | AH43: 0 | AI43: 0 | AJ43: 0 | AK43: 0 | AL43: 0 | AM43: 0 | AN43: 0 | AO43: 0 | AP43: 0 | AQ43: 0 | AR43: 0 | AS43: 0 | AT43: 0 | AU43: 0 | AV43: 0 | AW43: 0 | AX43: 0 | AY43: 0 | AZ43: 0 | BA43: 0 | BB43: 0 | BC43: 0 | BD43: 0 | BE43: 0 | BF43: 0 | BG43: 0 | BH43: 0 | BI43: 0 | BJ43: 0 | BK43: 0 | BL43: 0 | BM43: 0 | BN43: 0 | BO43: 0 | BP43: 0 | BQ43: 0 | BR43: 0 | BS43: 0 | BT43: 0 | BU43: 0 | BV43: 0 | BW43: 0 | BX43: 0 | BY43: 0 | BZ43: 0 | CA43: 0 | CB43: 0 | CC43: 0 | CD43: 0 | CE43: 0 | CF43: 0 | CG43: 0 | CH43: 0 | CI43: 0 | CJ43: 0 | CK43: нд
A44: 1.1.3.2 | B44: Реконструкция существующих объектов электросетевого хозяйства для усиления электрической сети в целях осуществления технологического присоединения объекта по производству электрической энергии, всего, в том числе: | C44: Г | D44: 0 | E44: 0 | F44: 0 | G44: 0 | H44: 0 | I44: 0 | J44: 0 | K44: 0 | L44: 0 | M44: 0 | N44: 0 | O44: 0 | P44: 0 | Q44: 0 | R44: 0 | S44: 0 | T44: 0 | U44: 0 | V44: 0 | W44: 0 | X44: 0 | Y44: 0 | Z44: 0 | AA44: 0 | AB44: 0 | AC44: 0 | AD44: 0 | AE44: 0 | AF44: 0 | AG44: 0 | AH44: 0 | AI44: 0 | AJ44: 0 | AK44: 0 | AL44: 0 | AM44: 0 | AN44: 0 | AO44: 0 | AP44: 0 | AQ44: 0 | AR44: 0 | AS44: 0 | AT44: 0 | AU44: 0 | AV44: 0 | AW44: 0 | AX44: 0 | AY44: 0 | AZ44: 0 | BA44: 0 | BB44: 0 | BC44: 0 | BD44: 0 | BE44: 0 | BF44: 0 | BG44: 0 | BH44: 0 | BI44: 0 | BJ44: 0 | BK44: 0 | BL44: 0 | BM44: 0 | BN44: 0 | BO44: 0 | BP44: 0 | BQ44: 0 | BR44: 0 | BS44: 0 | BT44: 0 | BU44: 0 | BV44: 0 | BW44: 0 | BX44: 0 | BY44: 0 | BZ44: 0 | CA44: 0 | CB44: 0 | CC44: 0 | CD44: 0 | CE44: 0 | CF44: 0 | CG44: 0 | CH44: 0 | CI44: 0 | CJ44: 0 | CK44: нд
...

Sheet 14
AN1: Приложение № 14
AI2: к приказу Минэнерго России от 25 апреля 2018 г. № 320
A3: Форма 14. Отчет о постановке объектов электросетевого хозяйства под напряжение и (или) включении объектов капитального строительства для проведения пусконаладочных работ (квартальный)
L4: ='10'!G4 -> 2 квартал | Q4: ='10'!J4 -> 2026 | S4: года
K6: Отчет о реализации инвестиционной программы | L6: АО "Богородская Электросеть"
L7: полное наименование субъекта электроэнергетики
O9: Год раскрытия информации: | Q9: ='10'!J9 -> 2026 | S9: год
M11: Утвержденные плановые значения показателей приведены в соответствии с | N11: ='10'!H11 -> приказ министра энергетики МО №146 от 25.12.2025
N12: реквизиты решения органа исполнительной власти, утвердившего инвестиционную программу
A14: Номер группы инвести-ционных проектов | B14: Наименование инвестиционного проекта (группы инвестиционных проектов) | C14: Идентификатор инвестиционного проекта | D14: Наименование присоединяемого объекта генерации, который будет осуществлять поставки электроэнергии и мощности в соответствии с договором о предоставлении мощности * | E14: Постановка объектов электросетевого хозяйства под напряжение и (или) включение объектов капитального строительства для проведения пусконаладочных работ в 2026 году
E15: План | K15: Факт
E16: Всего | K16: Всего | Q16: I квартал | W16: II квартал | AC16: III квартал | AI16: IV квартал
