Workbook
Name TABLE: '7.1'!#REF!
Name TABLE: '9'!#REF!
Name TABLE_2: '7.1'!#REF!
Name TABLE_2: '9'!#REF!

Sheet 7.1
X1: Приложение № 7.1
T2: к приказу Минэнерго России от 24 марта 2010 г. № 114
A3: Отчет об исполнении инвестиционной программы АО "БЭС", млн. руб с НДС за II квартал 2026 года
X5: Утверждаю
X6: генеральный директор АО "БЭС"
X8: В.С. Тебиев
X10: "____"______________202 года
X11: М.П.
P13: без НДС | R13: без НДС
A14: Номер группы инвести-ционных проектов | B14: Наименование инвестиционного проекта (группы инвестиционных проектов) | D14: Остаток стоимости на начало года (с НДС) | E14: Обьем финансирования 2026 года, млн. рублей (с НДС) | O14: Освоено (закрыто актами выполненных работ) млн. рублей | Q14: Введено (оформлено актами ввода в эксплуатацию) млн. рублей | S14: Осталось профинансировать по результатам отчетного периода | T14: Отклонение | X14: Причины отклонений
E15: Всего | G15: I квартал | I15: II квартал | K15: III квартал | M15: IV квартал | T15: млн. рублей (с НДС) | U15: % | V15: в том числе за счет
E16: План | F16: Факт | G16: План | H16: Факт | I16: План | J16: Факт | K16: План | L16: Факт | M16: План | N16: Факт | O16: Всего | P16: За отчетный квартал | Q16: Всего | R16: За отчетный квартал | V16: уточнения стоимости по результатам утвержденной ПСД | W16: уточнения стоимости по результатам закупочных процедур
A17: 1 | B17: 2 | D17: 6 | E17: 7 | F17: 8 | G17: 9 | H17: 10 | I17: 11 | J17: 12 | K17: 13 | L17: 14 | M17: 15 | N17: 16 | O17: 17 | P17: 18 | Q17: 19 | R17: 20 | S17: 21 | T17: 22 | U17: 23 | V17: 24 | W17: 25 | X17: 26
A18: 0 | B18: ИТОГО по инвестиционной программе | D18: =SUM(D19:D24) -> 174.22016 | E18: =SUM(E19:E24) -> 174.22016 | F18: =SUM(F19:F24) -> 47.978656 | G18: =SUM(G19:G24) -> 0 | H18: =SUM(H19:H24) -> 0 | I18: =SUM(I19:I24) -> 47.192121 | J18: =SUM(J19:J24) -> 47.978656 | K18: =SUM(K19:K24) -> 100.17616 | ... W18: =SUM(W19:W24) -> 0 | X18: нд
A19: 0.1 | B19: Технологическое присоединение, всего | D19: =D26 -> 0 | E19: =E26 -> 0 | F19: =F26 -> 0 | G19: =G26 -> 0 | H19: =H26 -> 0 | I19: =I26 -> 0 | J19: =J26 -> 0 | K19: =K26 -> 0 | ... W19: =W26 -> 0 | X19: нд
A20: 0.2 | B20: Реконструкция, модернизация, техническое перевооружение, всего | D20: =D46 -> 174.22016 | E20: =E46 -> 174.22016 | F20: =F46 -> 47.978656 | G20: =G46 -> 0 | H20: =H46 -> 0 | I20: =I46 -> 47.192121 | J20: =J46 -> 47.978656 | K20: =K46 -> 100.17616 | ... W20: =W46 -> 0 | X20: нд
A21: 0.3 | B21: Инвестиционные проекты, реализация которых обуславливается схемами и программами перспективного развития электроэнергетики, всего | D21: =D131 -> 0 | E21: =E131 -> 0 | F21: =F131 -> 0 | G21: =G131 -> 0 | H21: =H131 -> 0 | I21: =I131 -> 0 | J21: =J131 -> 0 | K21: =K131 -> 0 | ... W21: =W131 -> 0 | X21: нд
A22: 0.4 | B22: Прочее новое строительство объектов электросетевого хозяйства, всего | D22: =D134 -> 0 | E22: =E134 -> 0 | F22: =F134 -> 0 | G22: =G134 -> 0 | H22: =H134 -> 0 | I22: =I134 -> 0 | J22: =J134 -> 0 | K22: =K134 -> 0 | ... W22: =W134 -> 0 | X22: нд
A23: 0.5 | B23: Покупка земельных участков для целей реализации инвестиционных проектов, всего | D23: =D135 -> 0 | E23: =E135 -> 0 | F23: =F135 -> 0 | G23: =G135 -> 0 | H23: =H135 -> 0 | I23: =I135 -> 0 | J23: =J135 -> 0 | K23: =K135 -> 0 | ... W23: =W135 -> 0 | X23: нд
A24: 0.6 | B24: Прочие инвестиционные проекты, всего | D24: =D136 -> 0 | E24: =E136 -> 0 | F24: =F136 -> 0 | G24: =G136 -> 0 | H24: =H136 -> 0 | I24: =I136 -> 0 | J24: =J136 -> 0 | K24: =K136 -> 0 | ... W24: =W136 -> 0 | X24: нд
A25: 1 | B25: Московская обл., Богородский г.о., г.о.Электросталь | D25: =D26+D46+D131+D134+D135+D136 -> 174.22016 | E25: =E26+E46+E131+E134+E135+E136 -> 174.22016 | F25: =F26+F46+F131+F134+F135+F136 -> 47.978656 | G25: =G26+G46+G131+G134+G135+G136 -> 0 | H25: =H26+H46+H131+H134+H135+H136 -> 0 | I25: =I26+I46+I131+I134+I135+I136 -> 47.192121 | J25: =J26+J46+J131+J134+J135+J136 -> 47.978656 | K25: =K26+K46+K131+K134+K135+K136 -> 100.17616 | ... W25: =W26+W46+W131+W134+W135+W136 -> 0 | X25: нд
A26: 1.1. | B26: Технологическое присоединение, всего, в том числе: | D26: =D27+D31+D34+D43 -> 0 | E26: =E27+E31+E34+E43 -> 0 | F26: =F27+F31+F34+F43 -> 0 | G26: =G27+G31+G34+G43 -> 0 | H26: =H27+H31+H34+H43 -> 0 | I26: =I27+I31+I34+I43 -> 0 | J26: =J27+J31+J34+J43 -> 0 | K26: =K27+K31+K34+K43 -> 0 | ... W26: =W27+W31+W34+W43 -> 0 | X26: нд
A27: 1.1.1. | B27: Технологическое присоединение энергопринимающих устройств потребителей, всего, в том числе: | D27: =SUM(D28:D30) -> 0 | E27: =SUM(E28:E30) -> 0 | F27: =SUM(F28:F30) -> 0 | G27: =SUM(G28:G30) -> 0 | H27: =SUM(H28:H30) -> 0 | I27: =SUM(I28:I30) -> 0 | J27: =SUM(J28:J30) -> 0 | K27: =SUM(K28:K30) -> 0 | ... W27: =SUM(W28:W30) -> 0 | X27: нд
A28: 1.1.1.1 | B28: Технологическое присоединение энергопринимающих устройств потребителей максимальной мощностью до 15 кВт включительно, всего | D28: 0 | E28: 0 | F28: 0 | G28: 0 | H28: 0 | I28: 0 | J28: 0 | K28: 0 | L28: 0 | M28: 0 | N28: 0 | O28: 0 | P28: 0 | Q28: 0 | R28: 0 | S28: 0 | T28: 0 | U28: 0 | V28: 0 | W28: 0 | X28: нд
A29: 1.1.1.2 | B29: Технологическое присоединение энергопринимающих устройств потребителей максимальной мощностью до 150 кВт включительно, всего | D29: 0 | E29: 0 | F29: 0 | G29: 0 | H29: 0 | I29: 0 | J29: 0 | K29: 0 | L29: 0 | M29: 0 | N29: 0 | O29: 0 | P29: 0 | Q29: 0 | R29: 0 | S29: 0 | T29: 0 | U29: 0 | V29: 0 | W29: 0 | X29: нд
A30: 1.1.1.3 | B30: Технологическое присоединение энергопринимающих устройств потребителей свыше 150 кВт, всего, в том числе: | D30: =SUM(D31:D32) -> 0 | E30: =SUM(E31:E32) -> 0 | F30: =SUM(F31:F32) -> 0 | G30: =SUM(G31:G32) -> 0 | H30: =SUM(H31:H32) -> 0 | I30: =SUM(I31:I32) -> 0 | J30: =SUM(J31:J32) -> 0 | K30: =SUM(K31:K32) -> 0 | ... W30: =SUM(W31:W32) -> 0 | X30: нд
A31: 1.1.2. | B31: Технологическое присоединение объектов электросетевого хозяйства, всего, в том числе: | D31: =SUM(D32:D33) -> 0 | E31: =SUM(E32:E33) -> 0 | F31: =SUM(F32:F33) -> 0 | G31: =SUM(G32:G33) -> 0 | H31: =SUM(H32:H33) -> 0 | I31: =SUM(I32:I33) -> 0 | J31: =SUM(J32:J33) -> 0 | K31: =SUM(K32:K33) -> 0 | ... W31: =SUM(W32:W33) -> 0 | X31: нд
A32: 1.1.2.1 | B32: Технологическое присоединение объектов электросетевого хозяйства, принадлежащих иным сетевым организациям и иным лицам, всего, в том числе: | D32: 0 | E32: 0 | F32: 0 | G32: 0 | H32: 0 | I32: 0 | J32: 0 | K32: 0 | L32: 0 | M32: 0 | N32: 0 | O32: 0 | P32: 0 | Q32: 0 | R32: 0 | S32: 0 | T32: 0 | U32: 0 | V32: 0 | W32: 0 | X32: нд
A33: 1.1.2.2 | B33: Технологическое присоединение к электрическим сетям иных сетевых организаций, всего, в том числе: | D33: 0 | E33: 0 | F33: 0 | G33: 0 | H33: 0 | I33: 0 | J33: 0 | K33: 0 | L33: 0 | M33: 0 | N33: 0 | O33: 0 | P33: 0 | Q33: 0 | R33: 0 | S33: 0 | T33: 0 | U33: 0 | V33: 0 | W33: 0 | X33: нд
A34: 1.1.3. | B34: Технологическое присоединение объектов по производству электрической энергии, всего, в том числе: | D34: =SUM(D35:D42) -> 0 | E34: =SUM(E35:E42) -> 0 | F34: =SUM(F35:F42) -> 0 | G34: =SUM(G35:G42) -> 0 | H34: =SUM(H35:H42) -> 0 | I34: =SUM(I35:I42) -> 0 | J34: =SUM(J35:J42) -> 0 | K34: =SUM(K35:K42) -> 0 | ... W34: =SUM(W35:W42) -> 0 | X34: нд
A35: 1.1.3.1 | B35: Наименование объекта по производству электрической энергии, всего, в том числе: | D35: 0 | E35: 0 | F35: 0 | G35: 0 | H35: 0 | I35: 0 | J35: 0 | K35: 0 | L35: 0 | M35: 0 | N35: 0 | O35: 0 | P35: 0 | Q35: 0 | R35: 0 | S35: 0 | T35: 0 | U35: 0 | V35: 0 | W35: 0 | X35: нд
A36: 1.1.3.1 | B36: Строительство новых объектов электросетевого хозяйства (за исключением усиления существующей электрической сети) в целях осуществления технологического присоединения объекта по производству электрической энергии, всего, в том числе: | D36: 0 | E36: 0 | F36: 0 | G36: 0 | H36: 0 | I36: 0 | J36: 0 | K36: 0 | L36: 0 | M36: 0 | N36: 0 | O36: 0 | P36: 0 | Q36: 0 | R36: 0 | S36: 0 | T36: 0 | U36: 0 | V36: 0 | W36: 0 | X36: нд
A37: 1.1.3.1 | B37: Строительство новых объектов электросетевого хозяйства для усиления электрической сети в целях осуществления технологического присоединения объекта по производству электрической энергии, всего, в том числе: | D37: 0 | E37: 0 | F37: 0 | G37: 0 | H37: 0 | I37: 0 | J37: 0 | K37: 0 | L37: 0 | M37: 0 | N37: 0 | O37: 0 | P37: 0 | Q37: 0 | R37: 0 | S37: 0 | T37: 0 | U37: 0 | V37: 0 | W37: 0 | X37: нд
A38: 1.1.3.1 | B38: Реконструкция существующих объектов электросетевого хозяйства для усиления электрической сети в целях осуществления технологического присоединения объекта по производству электрической энергии всего, в том числе: | D38: 0 | E38: 0 | F38: 0 | G38: 0 | H38: 0 | I38: 0 | J38: 0 | K38: 0 | L38: 0 | M38: 0 | N38: 0 | O38: 0 | P38: 0 | Q38: 0 | R38: 0 | S38: 0 | T38: 0 | U38: 0 | V38: 0 | W38: 0 | X38: нд
A39: 1.1.3.2 | B39: Наименование объекта по производству электрической энергии, всего, в том числе: | D39: 0 | E39: 0 | F39: 0 | G39: 0 | H39: 0 | I39: 0 | J39: 0 | K39: 0 | L39: 0 | M39: 0 | N39: 0 | O39: 0 | P39: 0 | Q39: 0 | R39: 0 | S39: 0 | T39: 0 | U39: 0 | V39: 0 | W39: 0 | X39: нд
A40: 1.1.3.2 | B40: Строительство новых объектов электросетевого хозяйства (за исключением усиления существующей электрической сети) в целях осуществления технологического присоединения объекта по производству электрической энергии, всего, в том числе: | D40: 0 | E40: 0 | F40: 0 | G40: 0 | H40: 0 | I40: 0 | J40: 0 | K40: 0 | L40: 0 | M40: 0 | N40: 0 | O40: 0 | P40: 0 | Q40: 0 | R40: 0 | S40: 0 | T40: 0 | U40: 0 | V40: 0 | W40: 0 | X40: нд
A41: 1.1.3.2 | B41: Строительство новых объектов электросетевого хозяйства для усиления электрической сети в целях осуществления технологического присоединения объекта по производству электрической энергии, всего, в том числе: | D41: 0 | E41: 0 | F41: 0 | G41: 0 | H41: 0 | I41: 0 | J41: 0 | K41: 0 | L41: 0 | M41: 0 | N41: 0 | O41: 0 | P41: 0 | Q41: 0 | R41: 0 | S41: 0 | T41: 0 | U41: 0 | V41: 0 | W41: 0 | X41: нд
A42: 1.1.3.2 | B42: Реконструкция существующих объектов электросетевого хозяйства для усиления электрической сети в целях осуществления технологического присоединения объекта по производству электрической энергии, всего, в том числе: | D42: 0 | E42: 0 | F42: 0 | G42: 0 | H42: 0 | I42: 0 | J42: 0 | K42: 0 | L42: 0 | M42: 0 | N42: 0 | O42: 0 | P42: 0 | Q42: 0 | R42: 0 | S42: 0 | T42: 0 | U42: 0 | V42: 0 | W42: 0 | X42: нд
A43: 1.1.4. | B43: Усиление электрической сети в целях осуществления технологического присоединения энергопринимающих устройств потребителей и (или) объектов электросетевого хозяйства, всего, в том числе: | D43: =SUM(D44:D45) -> 0 | E43: =SUM(E44:E45) -> 0 | F43: =SUM(F44:F45) -> 0 | G43: =SUM(G44:G45) -> 0 | H43: =SUM(H44:H45) -> 0 | I43: =SUM(I44:I45) -> 0 | J43: =SUM(J44:J45) -> 0 | K43: =SUM(K44:K45) -> 0 | ... W43: =SUM(W44:W45) -> 0 | X43: нд
A44: 1.1.4.1 | B44: Строительство новых объектов электросетевого хозяйства для усиления электрической сети в целях осуществления технологического присоединения, всего, в том числе: | D44: 0 | E44: 0 | F44: 0 | G44: 0 | H44: 0 | I44: 0 | J44: 0 | K44: 0 | L44: 0 | M44: 0 | N44: 0 | O44: 0 | P44: 0 | Q44: 0 | R44: 0 | S44: 0 | T44: 0 | U44: 0 | V44: 0 | W44: 0 | X44: нд
...

Sheet 7.2
AJ1: Приложение № 7.2
AF2: к приказу Минэнерго России от 24 марта 2010 г. № 114
A4: Отчет об исполнении основных этапов работ по реализации инвестиционной программы АО "БЭС" в 2 квартале 2026 года
AJ5: Утверждаю
AJ6: генеральный директор АО "БЭС"
AJ8: В.С. Тебиев
AJ10: "____"______________202 года
AJ11: М.П.
A13: №№ | B13: Наименование объекта | D13: Плановый объем финансирования, млн. руб. | I13: Фактически профинансировано, млн. руб. | N13: Отклонение фактической стоимости работ от плановой стоимости, млн. руб. | S13: Фактически освоено (закрыто актами выполненных работ), млн. руб. | X13: Технические характеристики созданных объектов
X14: Генерирующие объекты | AB14: Подстанции | AF14: Линии электропередачи | AK14: Иные объекты, шт.
D15: Всего, в том числе: | E15: проектно-изыскательские работы | F15: строительные работы, реконструкция, монтаж оборудования | G15: оборудование и материалы | H15: прочие затраты | I15: Всего, в том числе: | J15: проектно-изыскательские работы | K15: строительные работы, реконструкция, монтаж оборудования | L15: оборудование и материалы | M15: прочие затраты | N15: Всего, в том числе: | O15: проектно-изыскательские работы | P15: строительные работы, реконструкция, монтаж оборудования | Q15: оборудование и материалы | R15: прочие затраты | S15: Всего, в том числе: | T15: проектно-изыскательские работы | U15: строительные работы, реконструкция, монтаж оборудования | V15: оборудование и материалы | W15: прочие затраты | X15: Год ввода в эксплуатацию | Y15: Нормативный срок службы | Z15: Мощность, МВт | AA15: Тепловая энергия Гкал/час | AB15: Год ввода в эксплуатацию | AC15: Нормативный срок службы | AD15: Мощность, МВт | AE15: Тепловая энергия Гкал/час | AF15: Год ввода в эксплуатацию | AG15: Нормативный срок службы | AH15: Тип опор | AI15: Марка кабеля | AJ15: Протяженность, км
A16: 0 | B16: ИТОГО по инвестиционной программе | D16: =SUM(D17:D22) -> 174.22016 | E16: =SUM(E17:E22) -> 0 | F16: =SUM(F17:F22) -> 56.237104 | G16: =SUM(G17:G22) -> 111.13101 | H16: =SUM(H17:H22) -> 6.852044 | I16: =SUM(I17:I22) -> 47.978656 | J16: =SUM(J17:J22) -> 0 | K16: =SUM(K17:K22) -> 4.1527175 | ... W16: =SUM(W17:W22) -> 2.877938 | X16: нд | Y16: нд | Z16: нд | AA16: нд | AB16: нд | AC16: нд | AD16: =SUM(AD17:AD22) -> 1.26 | AE16: нд | AF16: нд | AG16: нд | AH16: нд | AI16: нд | AJ16: нд | AK16: =SUM(AK17:AK22) -> 1
A17: 0.1 | B17: Технологическое присоединение, всего | D17: =D24 -> 0 | E17: =E24 -> 0 | F17: =F24 -> 0 | G17: =G24 -> 0 | H17: =H24 -> 0 | I17: =I24 -> 0 | J17: =J24 -> 0 | K17: =K24 -> 0 | ... W17: =W24 -> 0 | X17: нд | Y17: нд | Z17: нд | AA17: нд | AB17: нд | AC17: нд | AD17: нд | AE17: нд | AF17: нд | AG17: нд | AH17: нд | AI17: нд | AJ17: нд | AK17: нд
A18: 0.2 | B18: Реконструкция, модернизация, техническое перевооружение, всего | D18: =D44 -> 174.22016 | E18: =E44 -> 0 | F18: =F44 -> 56.237104 | G18: =G44 -> 111.13101 | H18: =H44 -> 6.852044 | I18: =I44 -> 47.978656 | J18: =J44 -> 0 | K18: =K44 -> 4.1527175 | ... W18: =W44 -> 2.877938 | X18: нд | Y18: нд | Z18: нд | AA18: нд | AB18: нд | AC18: нд | AD18: =AD44 -> 1.26 | AE18: нд | AF18: нд | AG18: нд | AH18: нд | AI18: нд | AJ18: нд | AK18: =AK44 -> 1
A19: 0.3 | B19: Инвестиционные проекты, реализация которых обуславливается схемами и программами перспективного развития электроэнергетики, всего | D19: =D129 -> 0 | E19: =E129 -> 0 | F19: =F129 -> 0 | G19: =G129 -> 0 | H19: =H129 -> 0 | I19: =I129 -> 0 | J19: =J129 -> 0 | K19: =K129 -> 0 | ... W19: =W129 -> 0 | X19: нд | Y19: нд | Z19: нд | AA19: нд | AB19: нд | AC19: нд | AD19: нд | AE19: нд | AF19: нд | AG19: нд | AH19: нд | AI19: нд | AJ19: нд | AK19: нд
A20: 0.4 | B20: Прочее новое строительство объектов электросетевого хозяйства, всего | D20: =D132 -> 0 | E20: =E132 -> 0 | F20: =F132 -> 0 | G20: =G132 -> 0 | H20: =H132 -> 0 | I20: =I132 -> 0 | J20: =J132 -> 0 | K20: =K132 -> 0 | ... W20: =W132 -> 0 | X20: нд | Y20: нд | Z20: нд | AA20: нд | AB20: нд | AC20: нд | AD20: нд | AE20: нд | AF20: нд | AG20: нд | AH20: нд | AI20: нд | AJ20: нд | AK20: нд
A21: 0.5 | B21: Покупка земельных участков для целей реализации инвестиционных проектов, всего | D21: =D133 -> 0 | E21: =E133 -> 0 | F21: =F133 -> 0 | G21: =G133 -> 0 | H21: =H133 -> 0 | I21: =I133 -> 0 | J21: =J133 -> 0 | K21: =K133 -> 0 | ... W21: =W133 -> 0 | X21: нд | Y21: нд | Z21: нд | AA21: нд | AB21: нд | AC21: нд | AD21: нд | AE21: нд | AF21: нд | AG21: нд | AH21: нд | AI21: нд | AJ21: нд | AK21: нд
A22: 0.6 | B22: Прочие инвестиционные проекты, всего | D22: =D134 -> 0 | E22: =E134 -> 0 | F22: =F134 -> 0 | G22: =G134 -> 0 | H22: =H134 -> 0 | I22: =I134 -> 0 | J22: =J134 -> 0 | K22: =K134 -> 0 | ... W22: =W134 -> 0 | X22: нд | Y22: нд | Z22: нд | AA22: нд | AB22: нд | AC22: нд | AD22: нд | AE22: нд | AF22: нд | AG22: нд | AH22: нд | AI22: нд | AJ22: нд | AK22: нд
A23: 1 | B23: ='7.1'!B25 -> Московская обл., Богородский г.о., г.о.Электросталь | D23: =D24+D44+D129+D132+D133+D134 -> 174.22016 | E23: =E24+E44+E129+E132+E133+E134 -> 0 | F23: =F24+F44+F129+F132+F133+F134 -> 56.237104 | G23: =G24+G44+G129+G132+G133+G134 -> 111.13101 | H23: =H24+H44+H129+H132+H133+H134 -> 6.852044 | I23: =I24+I44+I129+I132+I133+I134 -> 47.978656 | J23: =J24+J44+J129+J132+J133+J134 -> 0 | K23: =K24+K44+K129+K132+K133+K134 -> 4.1527175 | ... W23: =W24+W44+W129+W132+W133+W134 -> 2.877938 | X23: нд | Y23: нд | Z23: нд | AA23: нд | AB23: нд | AC23: нд | AD23: =AD44 -> 1.26 | AE23: нд | AF23: нд | AG23: нд | AH23: нд | AI23: нд | AJ23: нд | AK23: =AK44 -> 1
A24: 1.1. | B24: Технологическое присоединение, всего, в том числе: | D24: =D25+D29+D32+D41 -> 0 | E24: =E25+E29+E32+E41 -> 0 | F24: =F25+F29+F32+F41 -> 0 | G24: =G25+G29+G32+G41 -> 0 | H24: =H25+H29+H32+H41 -> 0 | I24: =I25+I29+I32+I41 -> 0 | J24: =J25+J29+J32+J41 -> 0 | K24: =K25+K29+K32+K41 -> 0 | ... W24: =W25+W29+W32+W41 -> 0 | X24: нд | Y24: нд | Z24: нд | AA24: нд | AB24: нд | AC24: нд | AD24: нд | AE24: нд | AF24: нд | AG24: нд | AH24: нд | AI24: нд | AJ24: нд | AK24: нд
A25: 1.1.1. | B25: Технологическое присоединение энергопринимающих устройств потребителей, всего, в том числе: | D25: =SUM(D26:D28) -> 0 | E25: =SUM(E26:E28) -> 0 | F25: =SUM(F26:F28) -> 0 | G25: =SUM(G26:G28) -> 0 | H25: =SUM(H26:H28) -> 0 | I25: =SUM(I26:I28) -> 0 | J25: =SUM(J26:J28) -> 0 | K25: =SUM(K26:K28) -> 0 | ... W25: =SUM(W26:W28) -> 0 | X25: нд | Y25: нд | Z25: нд | AA25: нд | AB25: нд | AC25: нд | AD25: нд | AE25: нд | AF25: нд | AG25: нд | AH25: нд | AI25: нд | AJ25: нд | AK25: нд
A26: 1.1.1.1 | B26: Технологическое присоединение энергопринимающих устройств потребителей максимальной мощностью до 15 кВт включительно, всего | D26: 0 | E26: 0 | F26: 0 | G26: 0 | H26: 0 | I26: 0 | J26: 0 | K26: 0 | L26: 0 | M26: 0 | N26: 0 | O26: 0 | P26: 0 | Q26: 0 | R26: 0 | S26: 0 | T26: 0 | U26: 0 | V26: 0 | W26: 0 | X26: нд | Y26: нд | Z26: нд | AA26: нд | AB26: нд | AC26: нд | AD26: нд | AE26: нд | AF26: нд | AG26: нд | AH26: нд | AI26: нд | AJ26: нд | AK26: нд
A27: 1.1.1.2 | B27: Технологическое присоединение энергопринимающих устройств потребителей максимальной мощностью до 150 кВт включительно, всего | D27: 0 | E27: 0 | F27: 0 | G27: 0 | H27: 0 | I27: 0 | J27: 0 | K27: 0 | L27: 0 | M27: 0 | N27: 0 | O27: 0 | P27: 0 | Q27: 0 | R27: 0 | S27: 0 | T27: 0 | U27: 0 | V27: 0 | W27: 0 | X27: нд | Y27: нд | Z27: нд | AA27: нд | AB27: нд | AC27: нд | AD27: нд | AE27: нд | AF27: нд | AG27: нд | AH27: нд | AI27: нд | AJ27: нд | AK27: нд
A28: 1.1.1.3 | B28: Технологическое присоединение энергопринимающих устройств потребителей свыше 150 кВт, всего, в том числе: | D28: =SUM(D29:D30) -> 0 | E28: =SUM(E29:E30) -> 0 | F28: =SUM(F29:F30) -> 0 | G28: =SUM(G29:G30) -> 0 | H28: =SUM(H29:H30) -> 0 | I28: =SUM(I29:I30) -> 0 | J28: =SUM(J29:J30) -> 0 | K28: =SUM(K29:K30) -> 0 | ... W28: =SUM(W29:W30) -> 0 | X28: нд | Y28: нд | Z28: нд | AA28: нд | AB28: нд | AC28: нд | AD28: нд | AE28: нд | AF28: нд | AG28: нд | AH28: нд | AI28: нд | AJ28: нд | AK28: нд
A29: 1.1.2. | B29: Технологическое присоединение объектов электросетевого хозяйства, всего, в том числе: | D29: =SUM(D30:D31) -> 0 | E29: =SUM(E30:E31) -> 0 | F29: =SUM(F30:F31) -> 0 | G29: =SUM(G30:G31) -> 0 | H29: =SUM(H30:H31) -> 0 | I29: =SUM(I30:I31) -> 0 | J29: =SUM(J30:J31) -> 0 | K29: =SUM(K30:K31) -> 0 | ... W29: =SUM(W30:W31) -> 0 | X29: нд | Y29: нд | Z29: нд | AA29: нд | AB29: нд | AC29: нд | AD29: нд | AE29: нд | AF29: нд | AG29: нд | AH29: нд | AI29: нд | AJ29: нд | AK29: нд
A30: 1.1.2.1 | B30: Технологическое присоединение объектов электросетевого хозяйства, принадлежащих иным сетевым организациям и иным лицам, всего, в том числе: | D30: 0 | E30: 0 | F30: 0 | G30: 0 | H30: 0 | I30: 0 | J30: 0 | K30: 0 | L30: 0 | M30: 0 | N30: 0 | O30: 0 | P30: 0 | Q30: 0 | R30: 0 | S30: 0 | T30: 0 | U30: 0 | V30: 0 | W30: 0 | X30: нд | Y30: нд | Z30: нд | AA30: нд | AB30: нд | AC30: нд | AD30: нд | AE30: нд | AF30: нд | AG30: нд | AH30: нд | AI30: нд | AJ30: нд | AK30: нд
A31: 1.1.2.2 | B31: Технологическое присоединение к электрическим сетям иных сетевых организаций, всего, в том числе: | D31: 0 | E31: 0 | F31: 0 | G31: 0 | H31: 0 | I31: 0 | J31: 0 | K31: 0 | L31: 0 | M31: 0 | N31: 0 | O31: 0 | P31: 0 | Q31: 0 | R31: 0 | S31: 0 | T31: 0 | U31: 0 | V31: 0 | W31: 0 | X31: нд | Y31: нд | Z31: нд | AA31: нд | AB31: нд | AC31: нд | AD31: нд | AE31: нд | AF31: нд | AG31: нд | AH31: нд | AI31: нд | AJ31: нд | AK31: нд
A32: 1.1.3. | B32: Технологическое присоединение объектов по производству электрической энергии, всего, в том числе: | D32: =SUM(D33:D40) -> 0 | E32: =SUM(E33:E40) -> 0 | F32: =SUM(F33:F40) -> 0 | G32: =SUM(G33:G40) -> 0 | H32: =SUM(H33:H40) -> 0 | I32: =SUM(I33:I40) -> 0 | J32: =SUM(J33:J40) -> 0 | K32: =SUM(K33:K40) -> 0 | ... W32: =SUM(W33:W40) -> 0 | X32: нд | Y32: нд | Z32: нд | AA32: нд | AB32: нд | AC32: нд | AD32: нд | AE32: нд | AF32: нд | AG32: нд | AH32: нд | AI32: нд | AJ32: нд | AK32: нд
A33: 1.1.3.1 | B33: Наименование объекта по производству электрической энергии, всего, в том числе: | D33: 0 | E33: 0 | F33: 0 | G33: 0 | H33: 0 | I33: 0 | J33: 0 | K33: 0 | L33: 0 | M33: 0 | N33: 0 | O33: 0 | P33: 0 | Q33: 0 | R33: 0 | S33: 0 | T33: 0 | U33: 0 | V33: 0 | W33: 0 | X33: нд | Y33: нд | Z33: нд | AA33: нд | AB33: нд | AC33: нд | AD33: нд | AE33: нд | AF33: нд | AG33: нд | AH33: нд | AI33: нд | AJ33: нд | AK33: нд
A34: 1.1.3.1 | B34: Строительство новых объектов электросетевого хозяйства (за исключением усиления существующей электрической сети) в целях осуществления технологического присоединения объекта по производству электрической энергии, всего, в том числе: | D34: 0 | E34: 0 | F34: 0 | G34: 0 | H34: 0 | I34: 0 | J34: 0 | K34: 0 | L34: 0 | M34: 0 | N34: 0 | O34: 0 | P34: 0 | Q34: 0 | R34: 0 | S34: 0 | T34: 0 | U34: 0 | V34: 0 | W34: 0 | X34: нд | Y34: нд | Z34: нд | AA34: нд | AB34: нд | AC34: нд | AD34: нд | AE34: нд | AF34: нд | AG34: нд | AH34: нд | AI34: нд | AJ34: нд | AK34: нд
A35: 1.1.3.1 | B35: Строительство новых объектов электросетевого хозяйства для усиления электрической сети в целях осуществления технологического присоединения объекта по производству электрической энергии, всего, в том числе: | D35: 0 | E35: 0 | F35: 0 | G35: 0 | H35: 0 | I35: 0 | J35: 0 | K35: 0 | L35: 0 | M35: 0 | N35: 0 | O35: 0 | P35: 0 | Q35: 0 | R35: 0 | S35: 0 | T35: 0 | U35: 0 | V35: 0 | W35: 0 | X35: нд | Y35: нд | Z35: нд | AA35: нд | AB35: нд | AC35: нд | AD35: нд | AE35: нд | AF35: нд | AG35: нд | AH35: нд | AI35: нд | AJ35: нд | AK35: нд
A36: 1.1.3.1 | B36: Реконструкция существующих объектов электросетевого хозяйства для усиления электрической сети в целях осуществления технологического присоединения объекта по производству электрической энергии всего, в том числе: | D36: 0 | E36: 0 | F36: 0 | G36: 0 | H36: 0 | I36: 0 | J36: 0 | K36: 0 | L36: 0 | M36: 0 | N36: 0 | O36: 0 | P36: 0 | Q36: 0 | R36: 0 | S36: 0 | T36: 0 | U36: 0 | V36: 0 | W36: 0 | X36: нд | Y36: нд | Z36: нд | AA36: нд | AB36: нд | AC36: нд | AD36: нд | AE36: нд | AF36: нд | AG36: нд | AH36: нд | AI36: нд | AJ36: нд | AK36: нд
A37: 1.1.3.2 | B37: Наименование объекта по производству электрической энергии, всего, в том числе: | D37: 0 | E37: 0 | F37: 0 | G37: 0 | H37: 0 | I37: 0 | J37: 0 | K37: 0 | L37: 0 | M37: 0 | N37: 0 | O37: 0 | P37: 0 | Q37: 0 | R37: 0 | S37: 0 | T37: 0 | U37: 0 | V37: 0 | W37: 0 | X37: нд | Y37: нд | Z37: нд | AA37: нд | AB37: нд | AC37: нд | AD37: нд | AE37: нд | AF37: нд | AG37: нд | AH37: нд | AI37: нд | AJ37: нд | AK37: нд
A38: 1.1.3.2 | B38: Строительство новых объектов электросетевого хозяйства (за исключением усиления существующей электрической сети) в целях осуществления технологического присоединения объекта по производству электрической энергии, всего, в том числе: | D38: 0 | E38: 0 | F38: 0 | G38: 0 | H38: 0 | I38: 0 | J38: 0 | K38: 0 | L38: 0 | M38: 0 | N38: 0 | O38: 0 | P38: 0 | Q38: 0 | R38: 0 | S38: 0 | T38: 0 | U38: 0 | V38: 0 | W38: 0 | X38: нд | Y38: нд | Z38: нд | AA38: нд | AB38: нд | AC38: нд | AD38: нд | AE38: нд | AF38: нд | AG38: нд | AH38: нд | AI38: нд | AJ38: нд | AK38: нд
A39: 1.1.3.2 | B39: Строительство новых объектов электросетевого хозяйства для усиления электрической сети в целях осуществления технологического присоединения объекта по производству электрической энергии, всего, в том числе: | D39: 0 | E39: 0 | F39: 0 | G39: 0 | H39: 0 | I39: 0 | J39: 0 | K39: 0 | L39: 0 | M39: 0 | N39: 0 | O39: 0 | P39: 0 | Q39: 0 | R39: 0 | S39: 0 | T39: 0 | U39: 0 | V39: 0 | W39: 0 | X39: нд | Y39: нд | Z39: нд | AA39: нд | AB39: нд | AC39: нд | AD39: нд | AE39: нд | AF39: нд | AG39: нд | AH39: нд | AI39: нд | AJ39: нд | AK39: нд
A40: 1.1.3.2 | B40: Реконструкция существующих объектов электросетевого хозяйства для усиления электрической сети в целях осуществления технологического присоединения объекта по производству электрической энергии, всего, в том числе: | D40: 0 | E40: 0 | F40: 0 | G40: 0 | H40: 0 | I40: 0 | J40: 0 | K40: 0 | L40: 0 | M40: 0 | N40: 0 | O40: 0 | P40: 0 | Q40: 0 | R40: 0 | S40: 0 | T40: 0 | U40: 0 | V40: 0 | W40: 0 | X40: нд | Y40: нд | Z40: нд | AA40: нд | AB40: нд | AC40: нд | AD40: нд | AE40: нд | AF40: нд | AG40: нд | AH40: нд | AI40: нд | AJ40: нд | AK40: нд
A41: 1.1.4. | B41: Усиление электрической сети в целях осуществления технологического присоединения энергопринимающих устройств потребителей и (или) объектов электросетевого хозяйства, всего, в том числе: | D41: =SUM(D42:D43) -> 0 | E41: =SUM(E42:E43) -> 0 | F41: =SUM(F42:F43) -> 0 | G41: =SUM(G42:G43) -> 0 | H41: =SUM(H42:H43) -> 0 | I41: =SUM(I42:I43) -> 0 | J41: =SUM(J42:J43) -> 0 | K41: =SUM(K42:K43) -> 0 | ... W41: =SUM(W42:W43) -> 0 | X41: нд | Y41: нд | Z41: нд | AA41: нд | AB41: нд | AC41: нд | AD41: нд | AE41: нд | AF41: нд | AG41: нд | AH41: нд | AI41: нд | AJ41: нд | AK41: нд
A42: 1.1.4.1 | B42: Строительство новых объектов электросетевого хозяйства для усиления электрической сети в целях осуществления технологического присоединения, всего, в том числе: | D42: 0 | E42: 0 | F42: 0 | G42: 0 | H42: 0 | I42: 0 | J42: 0 | K42: 0 | L42: 0 | M42: 0 | N42: 0 | O42: 0 | P42: 0 | Q42: 0 | R42: 0 | S42: 0 | T42: 0 | U42: 0 | V42: 0 | W42: 0 | X42: нд | Y42: нд | Z42: нд | AA42: нд | AB42: нд | AC42: нд | AD42: нд | AE42: нд | AF42: нд | AG42: нд | AH42: нд | AI42: нд | AJ42: нд | AK42: нд
A43: 1.1.4.2 | B43: Реконструкция существующих объектов электросетевого хозяйства для усиления электрической сети в целях осуществления технологического присоединения, всего, в том числе: | D43: 0 | E43: 0 | F43: 0 | G43: 0 | H43: 0 | I43: 0 | J43: 0 | K43: 0 | L43: 0 | M43: 0 | N43: 0 | O43: 0 | P43: 0 | Q43: 0 | R43: 0 | S43: 0 | T43: 0 | U43: 0 | V43: 0 | W43: 0 | X43: нд | Y43: нд | Z43: нд | AA43: нд | AB43: нд | AC43: нд | AD43: нд | AE43: нд | AF43: нд | AG43: нд | AH43: нд | AI43: нд | AJ43: нд | AK43: нд
A44: 1.2. | B44: Реконструкция, модернизация, техническое перевооружение, всего, в том числе: | D44: =D45+D85 -> 174.22016 | E44: =E45+E85 -> 0 | F44: =F45+F85 -> 56.237104 | G44: =G45+G85 -> 111.13101 | H44: =H45+H85 -> 6.852044 | I44: =I45+I85 -> 47.978656 | J44: =J45+J85 -> 0 | K44: =K45+K85 -> 4.1527175 | ... W44: =W45+W85 -> 2.877938 | X44: нд | Y44: нд | Z44: нд | AA44: нд | AB44: нд | AC44: нд | AD44: =AD45 -> 1.26 | AE44: нд | AF44: нд | AG44: нд | AH44: нд | AI44: нд | AJ44: нд | AK44: =AK45 -> 1
...

Sheet 8
ED1: Приложение № 8
ED2: к приказу Минэнерго России
ED3: от 24 марта 2010 г. № 114
A5: Отчет об источниках финансирования | BP5: инвестиционных программ, млн. рублей
A6: (представляется | BP6: ежеквартально)
ED8: Утверждаю
ED9: Генеральный директор АО "БЭС"
DL11: В.С. Тебиев
DL12: « | DO12: » | DX12: 20 | DZ12: 26 | EB12: года
ED13: М. П.
A15: №№ | E15: Источник финансирования | AB15: Объем | BP15: финансирования | DD15: Причины отклонений
BP16: 2026 год
AB17: всего | AR17: 1 кв. | BH17: 2 кв. | BX17: 3 кв. | CN17: 4 кв.
AB18: план* | AJ18: факт** | AR18: план | AZ18: факт | BH18: план | BP18: факт | BX18: план | CF18: факт | CN18: план | CV18: факт
A19: 1 | E19: Собственные средства | AB19: =AR19+BH19+BX19+CN19 -> 174.22016 | AJ19: =AZ19+BP19+CF19+CV19 -> 47.978656 | AR19: =AR31+AR36 -> 0 | AZ19: =AZ31+AZ36 -> 0 | BH19: =BH31+BH36 -> 47.192121 | BP19: =BP31+BP36 -> 47.978656 | BX19: =BX31+BX36 -> 100.17616 | CF19: =CF31+CF36 -> 0 | CN19: =CN31+CN36 -> 26.851876 | CV19: =CV31+CV36 -> 0
A20: 1.1. | E20: Прибыль, направляемая на инвестиции:
A21: 1.1.1. | E21: в т. ч. инвестиционная составляющая
E22: в тарифе
A23: 1.1.2. | E23: в т. ч. прибыль со свободного сектора
A24: 1.1.3. | E24: в т. ч. от технологического присоедине-
E25: ния (для электросетевых компаний)
A26: 1.1.3.1. | E26: в т. ч. от технологического присоедине-
E27: ния генерации
A28: 1.1.3.2. | E28: в т. ч. от технологического присоедине-
E29: ния потребителей
A30: 1.1.4. | E30: Прочая прибыль
A31: 1.2. | E31: Амортизация | AB31: =AR31+BH31+BX31+CN31 -> 145.18346 | AJ31: =AZ31+BP31+CF31+CV31 -> 39.326767 | AR31: ='7.1'!G18/1.22 -> 0 | AZ31: ='7.1'!H18/1.22 -> 0 | BH31: ='7.1'!I18/1.2 -> 39.326767 | BP31: ='7.1'!J18/1.22 -> 39.326767 | BX31: ='7.1'!K18/1.2 -> 83.480133 | CF31: ='7.1'!L18/1.22 -> 0 | CN31: ='7.1'!M18/1.2 -> 22.376563 | CV31: ='7.1'!N18/1.22 -> 0
A32: 1.2.1. | E32: Амортизация, учтенная в тарифе
A33: 1.2.2. | E33: Прочая амортизация
A34: 1.2.3. | E34: Недоиспользованная амортизация
E35: прошлых лет
A36: 1.3. | E36: Возврат НДС | AB36: =AR36+BH36+BX36+CN36 -> 29.036693 | AJ36: =AZ36+BP36+CF36+CV36 -> 8.6518888 | AR36: =AR31*22% -> 0 | AZ36: =AZ31*22% -> 0 | BH36: =BH31*20% -> 7.8653535 | BP36: =BP31*22% -> 8.6518888 | BX36: =BX31*20% -> 16.696027 | CF36: =CF31*22% -> 0 | CN36: =CN31*20% -> 4.4753127 | CV36: =CV31*22% -> 0
A37: 1.4. | E37: Прочие собственные средства
A38: 1.4.1. | E38: в т.ч. средства допэмиссии
A39: 1.5. | E39: Остаток собственных средств
E40: на начало года
A41: 2. | E41: Привлеченные средства, в т. ч.: | AB41: 0 | AJ41: 0 | AR41: 0 | AZ41: 0 | BH41: 0 | BP41: 0 | BX41: 0 | CF41: 0 | CN41: 0 | CV41: 0
A42: 2.1. | E42: Кредиты
A43: 2.2. | E43: Облигационные займы
A44: 2.3. | E44: Займы организаций
...

Sheet 9
W1: Приложение № 13
U2: к приказу Минэнерго России
W3: от 24 марта 2010 №114
A4: Отчет о вводах/выводах объектов инвестиционной программы АО "БЭС" за 2 квартал 2026 года
W6: Утверждаю
W7: Генеральный директор АО "БЭС"
W9: В.С. Тебиев
W11: "____"______________2026 года
W12: М.П.
A14: Номер группы инвести-ционных проектов | B14: Наименование инвестиционного проекта (группы инвестиционных проектов) | D14: Ввод мощностей | N14: Вывод мощностей
D15: план | I15: факт | N15: план | S15: факт
D16: МВт, Гкал/час, км, МВА, шт. | I16: МВт, Гкал/час, км, МВА, шт. | N16: МВт, Гкал/час, км, МВА, шт. | S16: МВт, Гкал/час, км, МВА, шт.
D17: 1 кв. | E17: 2 кв. | F17: 3 кв. | G17: 4 кв. | H17: 2026 | I17: 1 кв. | J17: 2 кв. | K17: 3 кв. | L17: 4 кв. | M17: 2026 | N17: 1 кв. | O17: 2 кв. | P17: 3 кв. | Q17: 4 кв. | R17: 2026 | S17: 1 кв. | T17: 2 кв. | U17: 3 кв. | V17: 4 кв. | W17: 2026
A18: 1 | B18: 2 | D18: 3 | E18: 4 | F18: 5 | G18: 6 | H18: 7 | I18: 8 | J18: 9 | K18: 10 | L18: 11 | M18: 12 | N18: 13 | O18: 14 | P18: 15 | Q18: 16 | R18: 17 | S18: 18 | T18: 19 | U18: 20 | V18: 21 | W18: 22
A19: 0 | B19: ИТОГО по инвестиционной программе | D19: нд | E19: нд | F19: нд | G19: нд | H19: нд | I19: нд | J19: нд | K19: нд | L19: нд | M19: нд | N19: нд | O19: нд | P19: нд | Q19: нд | R19: нд | S19: нд | T19: нд | U19: нд | V19: нд | W19: нд
A20: 0.1 | B20: Технологическое присоединение, всего | D20: нд | E20: нд | F20: нд | G20: нд | H20: нд | I20: нд | J20: нд | K20: нд | L20: нд | M20: нд | N20: нд | O20: нд | P20: нд | Q20: нд | R20: нд | S20: нд | T20: нд | U20: нд | V20: нд | W20: нд
A21: 0.2 | B21: Реконструкция, модернизация, техническое перевооружение, всего | D21: нд | E21: нд | F21: нд | G21: нд | H21: нд | I21: нд | J21: нд | K21: нд | L21: нд | M21: нд | N21: нд | O21: нд | P21: нд | Q21: нд | R21: нд | S21: нд | T21: нд | U21: нд | V21: нд | W21: нд
A22: 0.3 | B22: Инвестиционные проекты, реализация которых обуславливается схемами и программами перспективного развития электроэнергетики, всего | D22: нд | E22: нд | F22: нд | G22: нд | H22: нд | I22: нд | J22: нд | K22: нд | L22: нд | M22: нд | N22: нд | O22: нд | P22: нд | Q22: нд | R22: нд | S22: нд | T22: нд | U22: нд | V22: нд | W22: нд
A23: 0.4 | B23: Прочее новое строительство объектов электросетевого хозяйства, всего | D23: нд | E23: нд | F23: нд | G23: нд | H23: нд | I23: нд | J23: нд | K23: нд | L23: нд | M23: нд | N23: нд | O23: нд | P23: нд | Q23: нд | R23: нд | S23: нд | T23: нд | U23: нд | V23: нд | W23: нд
A24: 0.5 | B24: Покупка земельных участков для целей реализации инвестиционных проектов, всего | D24: нд | E24: нд | F24: нд | G24: нд | H24: нд | I24: нд | J24: нд | K24: нд | L24: нд | M24: нд | N24: нд | O24: нд | P24: нд | Q24: нд | R24: нд | S24: нд | T24: нд | U24: нд | V24: нд | W24: нд
A25: 0.6 | B25: Прочие инвестиционные проекты, всего | D25: нд | E25: нд | F25: нд | G25: нд | H25: нд | I25: нд | J25: нд | K25: нд | L25: нд | M25: нд | N25: нд | O25: нд | P25: нд | Q25: нд | R25: нд | S25: нд | T25: нд | U25: нд | V25: нд | W25: нд
A26: 1 | B26: Московская обл., Богородский г.о., г.о.Электросталь | D26: нд | E26: нд | F26: нд | G26: нд | H26: нд | I26: нд | J26: нд | K26: нд | L26: нд | M26: нд | N26: нд | O26: нд | P26: нд | Q26: нд | R26: нд | S26: нд | T26: нд | U26: нд | V26: нд | W26: нд
A27: 1.1. | B27: Технологическое присоединение, всего, в том числе: | D27: нд | E27: нд | F27: нд | G27: нд | H27: нд | I27: нд | J27: нд | K27: нд | L27: нд | M27: нд | N27: нд | O27: нд | P27: нд | Q27: нд | R27: нд | S27: нд | T27: нд | U27: нд | V27: нд | W27: нд
A28: 1.1.1. | B28: Технологическое присоединение энергопринимающих устройств потребителей, всего, в том числе: | D28: нд | E28: нд | F28: нд | G28: нд | H28: нд | I28: нд | J28: нд | K28: нд | L28: нд | M28: нд | N28: нд | O28: нд | P28: нд | Q28: нд | R28: нд | S28: нд | T28: нд | U28: нд | V28: нд | W28: нд
A29: 1.1.1.1 | B29: Технологическое присоединение энергопринимающих устройств потребителей максимальной мощностью до 15 кВт включительно, всего | D29: нд | E29: нд | F29: нд | G29: нд | H29: нд | I29: нд | J29: нд | K29: нд | L29: нд | M29: нд | N29: нд | O29: нд | P29: нд | Q29: нд | R29: нд | S29: нд | T29: нд | U29: нд | V29: нд | W29: нд
A30: 1.1.1.2 | B30: Технологическое присоединение энергопринимающих устройств потребителей максимальной мощностью до 150 кВт включительно, всего | D30: нд | E30: нд | F30: нд | G30: нд | H30: нд | I30: нд | J30: нд | K30: нд | L30: нд | M30: нд | N30: нд | O30: нд | P30: нд | Q30: нд | R30: нд | S30: нд | T30: нд | U30: нд | V30: нд | W30: нд
A31: 1.1.1.3 | B31: Технологическое присоединение энергопринимающих устройств потребителей свыше 150 кВт, всего, в том числе: | D31: нд | E31: нд | F31: нд | G31: нд | H31: нд | I31: нд | J31: нд | K31: нд | L31: нд | M31: нд | N31: нд | O31: нд | P31: нд | Q31: нд | R31: нд | S31: нд | T31: нд | U31: нд | V31: нд | W31: нд
A32: 1.1.2. | B32: Технологическое присоединение объектов электросетевого хозяйства, всего, в том числе: | D32: нд | E32: нд | F32: нд | G32: нд | H32: нд | I32: нд | J32: нд | K32: нд | L32: нд | M32: нд | N32: нд | O32: нд | P32: нд | Q32: нд | R32: нд | S32: нд | T32: нд | U32: нд | V32: нд | W32: нд
A33: 1.1.2.1 | B33: Технологическое присоединение объектов электросетевого хозяйства, принадлежащих иным сетевым организациям и иным лицам, всего, в том числе: | D33: нд | E33: нд | F33: нд | G33: нд | H33: нд | I33: нд | J33: нд | K33: нд | L33: нд | M33: нд | N33: нд | O33: нд | P33: нд | Q33: нд | R33: нд | S33: нд | T33: нд | U33: нд | V33: нд | W33: нд
A34: 1.1.2.2 | B34: Технологическое присоединение к электрическим сетям иных сетевых организаций, всего, в том числе: | D34: нд | E34: нд | F34: нд | G34: нд | H34: нд | I34: нд | J34: нд | K34: нд | L34: нд | M34: нд | N34: нд | O34: нд | P34: нд | Q34: нд | R34: нд | S34: нд | T34: нд | U34: нд | V34: нд | W34: нд
A35: 1.1.3. | B35: Технологическое присоединение объектов по производству электрической энергии, всего, в том числе: | D35: нд | E35: нд | F35: нд | G35: нд | H35: нд | I35: нд | J35: нд | K35: нд | L35: нд | M35: нд | N35: нд | O35: нд | P35: нд | Q35: нд | R35: нд | S35: нд | T35: нд | U35: нд | V35: нд | W35: нд
A36: 1.1.3.1 | B36: Наименование объекта по производству электрической энергии, всего, в том числе: | D36: нд | E36: нд | F36: нд | G36: нд | H36: нд | I36: нд | J36: нд | K36: нд | L36: нд | M36: нд | N36: нд | O36: нд | P36: нд | Q36: нд | R36: нд | S36: нд | T36: нд | U36: нд | V36: нд | W36: нд
A37: 1.1.3.1 | B37: Строительство новых объектов электросетевого хозяйства (за исключением усиления существующей электрической сети) в целях осуществления технологического присоединения объекта по производству электрической энергии, всего, в том числе: | D37: нд | E37: нд | F37: нд | G37: нд | H37: нд | I37: нд | J37: нд | K37: нд | L37: нд | M37: нд | N37: нд | O37: нд | P37: нд | Q37: нд | R37: нд | S37: нд | T37: нд | U37: нд | V37: нд | W37: нд
A38: 1.1.3.1 | B38: Строительство новых объектов электросетевого хозяйства для усиления электрической сети в целях осуществления технологического присоединения объекта по производству электрической энергии, всего, в том числе: | D38: нд | E38: нд | F38: нд | G38: нд | H38: нд | I38: нд | J38: нд | K38: нд | L38: нд | M38: нд | N38: нд | O38: нд | P38: нд | Q38: нд | R38: нд | S38: нд | T38: нд | U38: нд | V38: нд | W38: нд
... A49: 1.2.1.1 | B49: Реконструкция трансформаторных и иных подстанций, всего, в том числе: | D49: нд | E49: нд | F49: нд | G49: нд | H49: нд | I49: нд | J49: нд | K49: нд | L49: нд | M49: нд | N49: нд | O49: нд | P49: нд | Q49: нд | R49: нд | S49: нд | T49: нд | U49: нд | V49: нд | W49: нд
A50: 1.2.1.1 | B50: Реконструкция распределительной подстанции РП-1215, с заменой (13 шт.) и увеличением кол-ва ячеек на 3шт. (до 16 шт.), Богородский г.о., г.Ногинск, ул.Трудовая | C50: O_16_РП-1215 | D50: 0 | E50: 0 | F50: 0 | G50: 0 | H50: =D50+E50+F50+G50 -> 0 | I50: 0 | J50: 0 | K50: 0 | L50: 0 | M50: =I50+J50+K50+L50 -> 0 | N50: 0 | O50: 0 | P50: 0 | Q50: 0 | R50: =N50+O50+P50+Q50 -> 0 | S50: 0 | T50: 0 | U50: 0 | V50: 0 | W50: =S50+T50+U50+V50 -> 0
A51: 1.2.1.1 | B51: Реконструкция распределительной подстанции РП-918, с заменой (8 шт.) и увеличением кол-ва ячеек на 2 шт. (до 10 шт.), Богородский г.о., г.Старая Купавна, ул.Дорожная | C51: O_17_РП-918 | D51: 0 | E51: 0 | F51: 0 | G51: 0 | H51: =D51+E51+F51+G51 -> 0 | I51: 0 | J51: 0 | K51: 0 | L51: 0 | M51: =I51+J51+K51+L51 -> 0 | N51: 0 | O51: 0 | P51: 0 | Q51: 0 | R51: =N51+O51+P51+Q51 -> 0 | S51: 0 | T51: 0 | U51: 0 | V51: 0 | W51: =S51+T51+U51+V51 -> 0
A52: 1.2.1.1 | B52: Реконструкция распределительной подстанции РП-131, с заменой (15 шт.) и увеличением кол-ва ячеек на 1 шт. (до 16 шт.), Богородский г.о., пос.Обухово, ул.Комбинат | C52: O_18_РП-131 | D52: 0 | E52: 16 | F52: 0 | G52: 0 | H52: =D52+E52+F52+G52 -> 16 | I52: 0 | J52: 16 | K52: 0 | L52: 0 | M52: =I52+J52+K52+L52 -> 16 | N52: 0 | O52: 15 | P52: 0 | Q52: 0 | R52: =N52+O52+P52+Q52 -> 15 | S52: 0 | T52: 15 | U52: 0 | V52: 0 | W52: =S52+T52+U52+V52 -> 15
A53: 1.2.1.1 | B53: Реконструкция распределительной подстанции РП-106, с заменой (6 шт.) и увеличением кол-ва ячеек на 2 шт. (до 8 шт.), Богородский г.о., г.Ногинск, ул.2-й Речной пр-зд | C53: O_19_РП-106 | D53: 0 | E53: 0 | F53: 8 | G53: 0 | H53: =D53+E53+F53+G53 -> 8 | I53: 0 | J53: 0 | K53: 0 | L53: 0 | M53: =I53+J53+K53+L53 -> 0 | N53: 0 | O53: 0 | P53: 6 | Q53: 0 | R53: =N53+O53+P53+Q53 -> 6 | S53: 0 | T53: 0 | U53: 0 | V53: 0 | W53: =S53+T53+U53+V53 -> 0
A54: 1.2.1.1 | B54: Реконструкция распределительной подстанции РП-9, с заменой (12 шт.) и увеличением кол-ва ячеек на 4 шт. (до 16 шт.), Богородский г.о., г.Ногинск, ул.Рабочая | C54: O_20_РП-9 | D54: 0 | E54: 0 | F54: 0 | G54: 0 | H54: =D54+E54+F54+G54 -> 0 | I54: 0 | J54: 0 | K54: 0 | L54: 0 | M54: =I54+J54+K54+L54 -> 0 | N54: 0 | O54: 0 | P54: 0 | Q54: 0 | R54: =N54+O54+P54+Q54 -> 0 | S54: 0 | T54: 0 | U54: 0 | V54: 0 | W54: =S54+T54+U54+V54 -> 0
...

Sheet 12
CC1: Приложение № 12 к Приказу Минэнерго России от 24.03.2010 № 114
A3: Форма представления показателей финансовой отчетности (представляется ежеквартально)
K5: Финансовые показатели за отчетный период [ | BE5: 2 квартал | BS5: 2026 | BZ5: года | CM5: ]
BZ7: Утверждаю Генеральный директор АО "БЭС" В.С. Тебиев
BZ9: (подпись)
BY10: " | CD10: " | CP10: 20 | CS10: 26 | CW10: года
DA11: М.П.
CS12: тыс. руб.
A13: Наименование показателя
A14: место учета | BB14: на конец отчетного периода/за отчетный период | CB14: на конец 2025 года/ за 2025 год
A15: 1 | BB15: 2 | CB15: 3
B16: Выручка | BB16: 759233 | CB16: 1454109
B17: Чистая прибыль | BB17: 72222 | CB17: 53373
B18: Направления распределения чистой прибыли:
D19: дивиденды
D20: другое (расшифровать)
B21: EBITDA | BB21: 158018 | CB21: 199739
B22: Дебиторская задолженность, в т.ч.: | BB22: 194694 | CB22: 251963
D23: покупатели и заказчики | BB23: 126138 | CB23: 190265
D24: авансы выданные
B25: Собственный капитал
B26: * Заемный капитал (долгосрочные обязательства), в т.ч.:
D27: кредиты
D28: облигационные займы
D29: займы организаций
D30: прочее
B31: Краткосрочные обязательства, в т.ч.:
D32: кредиты и займы*
D33: кредиторская задолженность, в т.ч.:
F34: по строительству
F35: по ремонтам
F36: по поставкам топлива
B37: Сумма процентов, выплаченных по кредитам и займам
A38: Оценка обеспеченности инвестиционных программ 2026 г
B39: Всего потребность в финансировании инвестиционной программы | BB39: ='7.1'!E18*1000 -> 174220.16
B40: Профинансировано на отчетную дату | BB40: ='7.1'!F18*1000 -> 47978.656
B41: Обеспеченность источниками финансирования | BB41: =BB39 -> 174220.16
B42: Дефицит финансирования | BB42: =BB39-BB41 -> 0
A43: Оценка кредитного потенциала
B44: Собственная оценка кредитного потенциала:
...

Sheet 13
M1: Приложение № 13
K2: к приказу Минэнерго России
M3: от 24 марта 2010 №114
A4: Отчет о техническом состоянии объектов инвестиционной программы АО "БЭС" за 2 квартал 2026 года
M6: Утверждаю
M7: генеральный директор АО "БЭС"
M9: В.С. Тебиев
M11: "____"______________2026 года
M12: М.П.
A14: №№ | B14: Наименование объекта | D14: Технические характеристики | I14: Сроки реализации проекта | K14: Наличие исходно-разрешительной документации
D15: Мощность, МВТ, МВА | E15: Выработка, млн.кВт/час | F15: Длина, км | G15: Количество ячеек КСО, шт. | H15: Единицы техники, шт. | I15: Год начала строительства | J15: Год ввода в эксплуатацию | K15: Утвержденная проектно-сметная документация (+;-) | L15: Заключение Главгосэкспертизы России (+;-) | M15: Оформленный в соответствии с законодательством землеотвод (+;-) | N15: Рзрешение на строительство(+;-)
A16: 0 | B16: ИТОГО по инвестиционной программе | D16: =SUM(D17:D22) -> 1.26 | E16: нд | F16: =SUM(F17:F22) -> 0 | G16: =SUM(G17:G22) -> 16 | H16: =SUM(H17:H22) -> 0 | I16: нд | J16: нд | K16: нд | L16: нд | M16: нд | N16: нд
A17: 0.1 | B17: Технологическое присоединение, всего | D17: =D24 -> 0 | E17: нд | F17: =F24 -> 0 | G17: =G24 -> 0 | H17: =H24 -> 0 | I17: нд | J17: нд | K17: нд | L17: нд | M17: нд | N17: нд
A18: 0.2 | B18: Реконструкция, модернизация, техническое перевооружение, всего | D18: =D44 -> 1.26 | E18: нд | F18: =F44 -> 0 | G18: =G44 -> 16 | H18: =H44 -> 0 | I18: нд | J18: нд | K18: нд | L18: нд | M18: нд | N18: нд
A19: 0.3 | B19: Инвестиционные проекты, реализация которых обуславливается схемами и программами перспективного развития электроэнергетики, всего | D19: =D129 -> 0 | E19: нд | F19: =F129 -> 0 | G19: =G129 -> 0 | H19: =H129 -> 0 | I19: нд | J19: нд | K19: нд | L19: нд | M19: нд | N19: нд
A20: 0.4 | B20: Прочее новое строительство объектов электросетевого хозяйства, всего | D20: =D132 -> 0 | E20: нд | F20: =F132 -> 0 | G20: =G132 -> 0 | H20: =H132 -> 0 | I20: нд | J20: нд | K20: нд | L20: нд | M20: нд | N20: нд
A21: 0.5 | B21: Покупка земельных участков для целей реализации инвестиционных проектов, всего | D21: =D133 -> 0 | E21: нд | F21: =F133 -> 0 | G21: =G133 -> 0 | H21: =H133 -> 0 | I21: нд | J21: нд | K21: нд | L21: нд | M21: нд | N21: нд
A22: 0.6 | B22: Прочие инвестиционные проекты, всего | D22: =D134 -> 0 | E22: нд | F22: =F134 -> 0 | G22: =G134 -> 0 | H22: =H134 -> 0 | I22: нд | J22: нд | K22: нд | L22: нд | M22: нд | N22: нд
A23: 1 | B23: Московская обл., Богородский г.о., г.о.Электросталь | D23: =D24+D44+D129+D132+D133+D134 -> 1.26 | E23: нд | F23: =F24+F44+F129+F132+F133+F134 -> 0 | G23: =G24+G44+G129+G132+G133+G134 -> 16 | H23: =H24+H44+H129+H132+H133+H134 -> 0 | I23: нд | J23: нд | K23: нд | L23: нд | M23: нд | N23: нд
A24: 1.1. | B24: Технологическое присоединение, всего, в том числе: | D24: =D25+D29+D32+D41 -> 0 | E24: нд | F24: =F25+F29+F32+F41 -> 0 | G24: =G25+G29+G32+G41 -> 0 | H24: =H25+H29+H32+H41 -> 0 | I24: нд | J24: нд | K24: нд | L24: нд | M24: нд | N24: нд
A25: 1.1.1. | B25: Технологическое присоединение энергопринимающих устройств потребителей, всего, в том числе: | D25: =SUM(D26:D28) -> 0 | E25: нд | F25: =SUM(F26:F28) -> 0 | G25: =SUM(G26:G28) -> 0 | H25: =SUM(H26:H28) -> 0 | I25: нд | J25: нд | K25: нд | L25: нд | M25: нд | N25: нд
A26: 1.1.1.1 | B26: Технологическое присоединение энергопринимающих устройств потребителей максимальной мощностью до 15 кВт включительно, всего | D26: 0 | E26: нд | F26: 0 | G26: 0 | H26: 0 | I26: нд | J26: нд | K26: нд | L26: нд | M26: нд | N26: нд
A27: 1.1.1.2 | B27: Технологическое присоединение энергопринимающих устройств потребителей максимальной мощностью до 150 кВт включительно, всего | D27: 0 | E27: нд | F27: 0 | G27: 0 | H27: 0 | I27: нд | J27: нд | K27: нд | L27: нд | M27: нд | N27: нд
A28: 1.1.1.3 | B28: Технологическое присоединение энергопринимающих устройств потребителей свыше 150 кВт, всего, в том числе: | D28: =SUM(D29:D30) -> 0 | E28: нд | F28: =SUM(F29:F30) -> 0 | G28: =SUM(G29:G30) -> 0 | H28: =SUM(H29:H30) -> 0 | I28: нд | J28: нд | K28: нд | L28: нд | M28: нд | N28: нд
A29: 1.1.2. | B29: Технологическое присоединение объектов электросетевого хозяйства, всего, в том числе: | D29: =SUM(D30:D31) -> 0 | E29: нд | F29: =SUM(F30:F31) -> 0 | G29: =SUM(G30:G31) -> 0 | H29: =SUM(H30:H31) -> 0 | I29: нд | J29: нд | K29: нд | L29: нд | M29: нд | N29: нд
A30: 1.1.2.1 | B30: Технологическое присоединение объектов электросетевого хозяйства, принадлежащих иным сетевым организациям и иным лицам, всего, в том числе: | D30: 0 | E30: нд | F30: 0 | G30: 0 | H30: 0 | I30: нд | J30: нд | K30: нд | L30: нд | M30: нд | N30: нд
A31: 1.1.2.2 | B31: Технологическое присоединение к электрическим сетям иных сетевых организаций, всего, в том числе: | D31: 0 | E31: нд | F31: 0 | G31: 0 | H31: 0 | I31: нд | J31: нд | K31: нд | L31: нд | M31: нд | N31: нд
A32: 1.1.3. | B32: Технологическое присоединение объектов по производству электрической энергии, всего, в том числе: | D32: =SUM(D33:D40) -> 0 | E32: нд | F32: =SUM(F33:F40) -> 0 | G32: =SUM(G33:G40) -> 0 | H32: =SUM(H33:H40) -> 0 | I32: нд | J32: нд | K32: нд | L32: нд | M32: нд | N32: нд
A33: 1.1.3.1 | B33: Наименование объекта по производству электрической энергии, всего, в том числе: | D33: 0 | E33: нд | F33: 0 | G33: 0 | H33: 0 | I33: нд | J33: нд | K33: нд | L33: нд | M33: нд | N33: нд
A34: 1.1.3.1 | B34: Строительство новых объектов электросетевого хозяйства (за исключением усиления существующей электрической сети) в целях осуществления технологического присоединения объекта по производству электрической энергии, всего, в том числе: | D34: 0 | E34: нд | F34: 0 | G34: 0 | H34: 0 | I34: нд | J34: нд | K34: нд | L34: нд | M34: нд | N34: нд
A35: 1.1.3.1 | B35: Строительство новых объектов электросетевого хозяйства для усиления электрической сети в целях осуществления технологического присоединения объекта по производству электрической энергии, всего, в том числе: | D35: 0 | E35: нд | F35: 0 | G35: 0 | H35: 0 | I35: нд | J35: нд | K35: нд | L35: нд | M35: нд | N35: нд
A36: 1.1.3.1 | B36: Реконструкция существующих объектов электросетевого хозяйства для усиления электрической сети в целях осуществления технологического присоединения объекта по производству электрической энергии всего, в том числе: | D36: 0 | E36: нд | F36: 0 | G36: 0 | H36: 0 | I36: нд | J36: нд | K36: нд | L36: нд | M36: нд | N36: нд
A37: 1.1.3.2 | B37: Наименование объекта по производству электрической энергии, всего, в том числе: | D37: 0 | E37: нд | F37: 0 | G37: 0 | H37: 0 | I37: нд | J37: нд | K37: нд | L37: нд | M37: нд | N37: нд
A38: 1.1.3.2 | B38: Строительство новых объектов электросетевого хозяйства (за исключением усиления существующей электрической сети) в целях осуществления технологического присоединения объекта по производству электрической энергии, всего, в том числе: | D38: 0 | E38: нд | F38: 0 | G38: 0 | H38: 0 | I38: нд | J38: нд | K38: нд | L38: нд | M38: нд | N38: нд
A39: 1.1.3.2 | B39: Строительство новых объектов электросетевого хозяйства для усиления электрической сети в целях осуществления технологического присоединения объекта по производству электрической энергии, всего, в том числе: | D39: 0 | E39: нд | F39: 0 | G39: 0 | H39: 0 | I39: нд | J39: нд | K39: нд | L39: нд | M39: нд | N39: нд
A40: 1.1.3.2 | B40: Реконструкция существующих объектов электросетевого хозяйства для усиления электрической сети в целях осуществления технологического присоединения объекта по производству электрической энергии, всего, в том числе: | D40: 0 | E40: нд | F40: 0 | G40: 0 | H40: 0 | I40: нд | J40: нд | K40: нд | L40: нд | M40: нд | N40: нд
A41: 1.1.4. | B41: Усиление электрической сети в целях осуществления технологического присоединения энергопринимающих устройств потребителей и (или) объектов электросетевого хозяйства, всего, в том числе: | D41: =SUM(D42:D43) -> 0 | E41: нд | F41: =SUM(F42:F43) -> 0 | G41: =SUM(G42:G43) -> 0 | H41: =SUM(H42:H43) -> 0 | I41: нд | J41: нд | K41: нд | L41: нд | M41: нд | N41: нд
A42: 1.1.4.1 | B42: Строительство новых объектов электросетевого хозяйства для усиления электрической сети в целях осуществления технологического присоединения, всего, в том числе: | D42: 0 | E42: нд | F42: 0 | G42: 0 | H42: 0 | I42: нд | J42: нд | K42: нд | L42: нд | M42: нд | N42: нд
A43: 1.1.4.2 | B43: Реконструкция существующих объектов электросетевого хозяйства для усиления электрической сети в целях осуществления технологического присоединения, всего, в том числе: | D43: 0 | E43: нд | F43: 0 | G43: 0 | H43: 0 | I43: нд | J43: нд | K43: нд | L43: нд | M43: нд | N43: нд
A44: 1.2. | B44: Реконструкция, модернизация, техническое перевооружение, всего, в том числе: | D44: =D45+D85 -> 1.26 | E44: нд | F44: =F45+F85 -> 0 | G44: =G45+G85 -> 16 | H44: =H45+H85 -> 0 | I44: нд | J44: нд | K44: нд | L44: нд | M44: нд | N44: нд
...
